BEGIN:VCALENDAR
VERSION:2.0
PRODID:-//jEvents 2.0 for Joomla//EN
CALSCALE:GREGORIAN
METHOD:PUBLISH
BEGIN:VEVENT
UID:4905f16cff7ceabdaf16a5d64ed900e8
CATEGORIES:4. Bezirk
CREATED:20191001T112155
SUMMARY:Mama Baby Yoga
LOCATION:Studio YOGINIS Waaggasse 12
DESCRIPTION:In diesem Yogakurs für Mutter und Baby, erlernt und übt die junge Mutter sa
 nfte Yoga-Techniken, die ihr helfen, ihre Figur wiederzugewinnen und ihre i
 nnere Kraft und Ausdauer aufzubauen. Happy Mommy, happy Baby!\n \nKrabbler 
 willkommen!\n  \nDie Yogaübungen helfen der Mutter nach der Geburt, wieder 
 ein gutes Körpergefühl zu entwickeln und die Bauch-, Gesäß-, und Beinmuskul
 atur zu straffen und zu kräftigen. \nDas Baby kann in die Übungen mit einbe
 zogen werden, oder aber auch in Ruhe schlafen oder bei den Übungen zusehen.
  \nNach einer Stunde YOGA ist bei einer Tasse Tee noch Zeit zum Kennenlerne
 n und für Erfahrungsaustausch unter den Müttern. \n  \n \n
X-ALT-DESC;FMTTYPE=text/html:<p style="margin: 0cm; margin-bottom: .0001pt;"><span style="font-family: '
 &amp;quot',serif;">In diesem Yogakurs für Mutter und Baby, erlernt und übt 
 die junge Mutter sanfte Yoga-Techniken, die ihr helfen, ihre Figur wiederzu
 gewinnen und ihre innere Kraft und Ausdauer aufzubauen. Happy Mommy, happy 
 Baby!</span></p><p style="margin: 0cm; margin-bottom: .0001pt;"> </p><p sty
 le="margin: 0cm; margin-bottom: .0001pt;"><span style="font-family: '&amp;q
 uot',serif;">Krabbler willkommen!</span></p><p style="margin: 0cm; margin-b
 ottom: .0001pt; -webkit-text-stroke-width: 0px; word-spacing: 0px;"><span s
 tyle="font-family: '&amp;quot',serif;">  </span></p><p style="margin: 0cm; 
 margin-bottom: .0001pt; -webkit-text-stroke-width: 0px; word-spacing: 0px;"
 ><span style="color: hsl(0, 0%, 100%);"><span style="font-family: '&amp;quo
 t',serif;">Die Yogaübungen helfen der Mutter nach der Geburt, wieder ein gu
 tes Körpergefühl zu entwickeln und die Bauch-, Gesäß-, und Beinmuskulatur z
 u straffen und zu kräftigen.</span> </span></p><p style="margin: 0cm; margi
 n-bottom: .0001pt; -webkit-text-stroke-width: 0px; word-spacing: 0px;"><spa
 n style="color: hsl(0, 0%, 100%);"><span style="font-family: '&amp;quot',se
 rif;">Das Baby kann in die Übungen mit einbezogen werden, oder aber auch in
  Ruhe schlafen oder bei den Übungen zusehen.</span> </span></p><p style="ma
 rgin: 0cm; margin-bottom: .0001pt; -webkit-text-stroke-width: 0px; word-spa
 cing: 0px;"><span style="color: hsl(0, 0%, 100%);"><span style="font-family
 : '&amp;quot',serif;">Nach einer Stunde YOGA ist bei einer Tasse Tee noch Z
 eit zum Kennenlernen und für Erfahrungsaustausch unter den Müttern.</span> 
 </span></p><p style="margin: 0cm; margin-bottom: .0001pt; -webkit-text-stro
 ke-width: 0px; word-spacing: 0px;"><span style="font-family: '&amp;quot',se
 rif;">  </span></p><p> </p>
CONTACT:Angelika Kittel
DTSTAMP:20260423T113110
DTSTART:20191205T090000
DTEND:20191205T100000
SEQUENCE:0
TRANSP:OPAQUE
END:VEVENT
END:VCALENDAR