BEGIN:VCALENDAR
VERSION:2.0
PRODID:-//jEvents 2.0 for Joomla//EN
CALSCALE:GREGORIAN
METHOD:PUBLISH
BEGIN:VEVENT
UID:79cc60de915e9a27241392a95824cc4e
CATEGORIES:12. Bezirk
CREATED:20191004T122814
SUMMARY:Mama-Baby-Yoga
LOCATION:1120 Wien\, Hetzendorferstraße 120
DESCRIPTION:Yoga mit Baby in 1120 Wien, Hetzendorferstraße 120.\nWenn ein Baby da ist, 
 bleibt meist wenig Zeit, um auf sich selbst zu schauen. Dabei ist es gerade
  dann wichtig, Kraft zu tanken, Rücken- und Köprermitte zu stärken und auch
  zu entspannen.\nWir praktizieren sanfte Yoga - Asanas, die auch bei der Rü
 ckbildung helfen. Die Babies kommen einfach mit! In der kleinen Guppe (max.
  6 Erwachsene) kann gut auf individuelle Bedürfnisse eingegangen werden. \n
 Die Mama-Baby-Yogakurse sind auch perfekt zum Vernetzen mit anderen Mamis!\
 nInformation und Anmeldung bei Sigrid: \nTel.  0660 47 97 016\nsigrid@taoda
 y.net (mailto:sigrid@taoday.net)\nyogainhetzendorf.wordpress.com (http://ww
 w.yogainhetzendorf.wordpress.com)\n \n
X-ALT-DESC;FMTTYPE=text/html:<p>Yoga mit Baby in 1120 Wien, Hetzendorferstraße 120.<br />Wenn ein Baby d
 a ist, bleibt meist wenig Zeit, um auf sich selbst zu schauen. Dabei ist es
  gerade dann wichtig, Kraft zu tanken, Rücken- und Köprermitte zu stärken u
 nd auch zu entspannen.<br />Wir praktizieren sanfte Yoga - Asanas, die auch
  bei der Rückbildung helfen. Die Babies kommen einfach mit! In der kleinen 
 Guppe (max. 6 Erwachsene) kann gut auf individuelle Bedürfnisse eingegangen
  werden. <br />Die Mama-Baby-Yogakurse sind auch perfekt zum Vernetzen mit 
 anderen Mamis!</p><p>Information und Anmeldung bei Sigrid: <br />Tel.  0660
  47 97 016<br /><a href="mailto:sigrid@taoday.net">sigrid@taoday.net</a></p
 ><p><a href="http://www.yogainhetzendorf.wordpress.com">yogainhetzendorf.wo
 rdpress.com</a></p><p> </p>
CONTACT:sigrid@taoday.net, Tel. 0660 47 97 016
X-EXTRAINFO:[preis='1400'][anmeldung='true']
DTSTAMP:20260423T113212
DTSTART:20191210T090000
DTEND:20191210T101500
SEQUENCE:0
TRANSP:OPAQUE
END:VEVENT
END:VCALENDAR