BEGIN:VCALENDAR
VERSION:2.0
PRODID:-//jEvents 2.0 for Joomla//EN
CALSCALE:GREGORIAN
METHOD:PUBLISH
BEGIN:VEVENT
UID:06938faa31b31a9156cd6b9818328ab1
CATEGORIES:12. Bezirk
CREATED:20191004T123623
SUMMARY:Mama-Baby-Yoga
LOCATION:1120 Wien\, Hetzendorferstraße 120
DESCRIPTION:Yoga mit Baby in 1120 Wien, Hetzendorferstraße 120.\n\nWenn ein Baby da ist
 , bleibt meist wenig Zeit, um sich selbst etwas Gutes zu tun. Dabei ist es 
 gerade dann wichtig, Kraft zu tanken, Rücken- und Körpermitte zu stärken un
 d auch zu entspannen.\n\nWir praktizieren beim Mama-Baby-Yoga sanfte Asanas
 , die auch bei der Rückbildung helfen. Die Babies kommen einfach mit! Für d
 ie Kinder gibt es viel zu sehen, die größeren finden in unserem Spielzeugko
 rb immer etwas Spannendes.\n\nIn der kleinen Guppe (max. 6 Erwachsene) kann
  gut auf individuelle Bedürfnisse eingegangen werden.\nDie Mama-Baby-Yogaku
 rse sind perfekt zum Vernetzen mit anderen Mamis!\nInformation und Anmeldun
 g bei Sigrid: \nTel.  0660 47 97 016\nsigrid@taoday.net (mailto:sigrid@taod
 ay.net)\nyogainhetzendorf.wordpress.com (http://www.yogainhetzendorf.wordpr
 ess.com)\n
X-ALT-DESC;FMTTYPE=text/html:<p>Yoga mit Baby in 1120 Wien, Hetzendorferstraße 120.<br /><br />Wenn ein 
 Baby da ist, bleibt meist wenig Zeit, um sich selbst etwas Gutes zu tun. Da
 bei ist es gerade dann wichtig, Kraft zu tanken, Rücken- und Körpermitte zu
  stärken und auch zu entspannen.<br /><br />Wir praktizieren beim Mama-Baby
 -Yoga sanfte Asanas, die auch bei der Rückbildung helfen. Die Babies kommen
  einfach mit! Für die Kinder gibt es viel zu sehen, die größeren finden in 
 unserem Spielzeugkorb immer etwas Spannendes.<br /><br />In der kleinen Gup
 pe (max. 6 Erwachsene) kann gut auf individuelle Bedürfnisse eingegangen we
 rden.<br />Die Mama-Baby-Yogakurse sind perfekt zum Vernetzen mit anderen M
 amis!</p><p>Information und Anmeldung bei Sigrid: <br />Tel.  0660 47 97 01
 6<br /><a href="mailto:sigrid@taoday.net">sigrid@taoday.net</a></p><p><a hr
 ef="http://www.yogainhetzendorf.wordpress.com">yogainhetzendorf.wordpress.c
 om</a></p>
CONTACT:sigrid@taoday.net, Tel. 0660 47 97 016
X-EXTRAINFO:[preis='1400'][anmeldung='true']
DTSTAMP:20260425T134042
DTSTART:20191016T080000
DTEND:20191016T091500
SEQUENCE:0
TRANSP:OPAQUE
END:VEVENT
END:VCALENDAR