BEGIN:VCALENDAR
VERSION:2.0
PRODID:-//jEvents 2.0 for Joomla//EN
CALSCALE:GREGORIAN
METHOD:PUBLISH
BEGIN:VEVENT
UID:7708e65dba7ba175224242f9dc62245c
CATEGORIES:14. Bezirk
CREATED:20191021T211753
SUMMARY:mamaFIT mit Andrea - BAUMGARTNER CASINOPARK - Outdoorworkout f. Schwangere & Mamas
LOCATION:Baumgartner Casino-Park\, 1140 Wien
DESCRIPTION:mamaFIT mit Andrea ist dein neues Outdoor-Workout, das dich von der Schwang
 erschaft bis in die Zeit als Mama hinein begleitet. Ein sicheres und effekt
 ives Workout, bei dem du als Mama die Hauptrolle spielst.\nEgal, ob mit Bab
 ybauch, Kind in der Trage oder im Kinderwagen, bei mir bist du immer herzli
 ch willkommen!\nJeden Montag und Donnerstag trainieren wir im Baumgartner C
 asino-Park. Erreichbar mit den Straßenbahnen 49 &amp; 52. In den Monaten Ju
 li &amp; August starten wir schon um 9:30!!! mit dem Training.\n \nDeine Vo
 rteile:\ndu trainierst mit Mamas aus deiner Gegend und hast Spaß deinen Kör
 per (wieder) in Form zu bringen\ndu kannst gemeinsam mit deinem Kind die fr
 ische Luft genießen und Vitamin D tanken\ndu sparst dir den Babysitter\nUns
 er Motto: Fühl dich wohl in deinem Körper!\n \n \nIch biete dir ein mamafre
 undliches und flexibles Kurssystem!\nOffenes Kurssystem - Einstieg jederzei
 t möglich!\nAnmeldung vorab möglich, jedoch nicht zwingend notwendig.\nwww.
 mamafit.at/trainer/andrea-sulzmann/\n \nPreise:\n14€ - Einzelstunde\n60€ - 
 5er Block*\n110€ - 10er Block*\n \n*die Blockkarten sind 1 Jahr gültig und 
 übertragbar\n \nBei Fragen stehe ich dir jederzeit nach der Stunde oder per
  Mail zur Verfügung: andrea.sulzmann@mamafit.at\n \n \nIch freue mich auf d
 ich und dein Kind!\n \nAlles Liebe,\nAndrea, deine mamaFIT-Trainerin\n
X-ALT-DESC;FMTTYPE=text/html:<p><strong>mamaFIT mit Andrea</strong> ist dein neues <strong>Outdoor-Worko
 ut</strong>, das dich von der Schwangerschaft bis in die Zeit als Mama hine
 in begleitet. Ein sicheres und effektives Workout, bei dem du als Mama die 
 Hauptrolle spielst.</p><p><strong>Egal, ob mit Babybauch, Kind in der Trage
  oder im Kinderwagen, bei mir bist du immer herzlich willkommen!</strong></
 p><p>Jeden <strong>Montag und Donnerstag</strong> trainieren wir im <strong
 >Baumgartner Casino-Park</strong>. Erreichbar mit den Straßenbahnen 49 &amp
 ; 52. In den Monaten Juli &amp; August starten wir schon um 9:30!!! mit dem
  Training.</p><p> </p><p>Deine Vorteile:</p><p>du trainierst mit Mamas aus 
 deiner Gegend und hast Spaß deinen Körper (wieder) in Form zu bringen<br />
 du kannst gemeinsam mit deinem Kind die frische Luft genießen und Vitamin D
  tanken<br />du sparst dir den Babysitter</p><p><strong>Unser Motto: Fühl d
 ich wohl in deinem Körper!</strong></p><p> </p><p> </p><p>Ich biete dir ein
  mamafreundliches und flexibles Kurssystem!</p><p><strong>Offenes Kurssyste
 m - Einstieg jederzeit möglich!</strong></p><p>Anmeldung vorab möglich, jed
 och nicht zwingend notwendig.</p><p>www.mamafit.at/trainer/andrea-sulzmann/
 </p><p> </p><p><strong>Preise:</strong></p><p>14€ - Einzelstunde</p><p>60€ 
 - 5er Block*</p><p>110€ - 10er Block*</p><p> </p><p>*die Blockkarten sind 1
  Jahr gültig und übertragbar</p><p> </p><p>Bei Fragen stehe ich dir jederze
 it nach der Stunde oder per Mail zur Verfügung: andrea.sulzmann@mamafit.at<
 /p><p> </p><p> </p><p>Ich freue mich auf dich und dein Kind!</p><p> </p><p>
 Alles Liebe,</p><p>Andrea, deine mamaFIT-Trainerin</p>
CONTACT:andrea.sulzmann@mamafit.at
X-EXTRAINFO:[preis='1100'][anmeldung='false']
DTSTAMP:20260423T211401
DTSTART:20191024T080000
DTEND:20191024T090000
SEQUENCE:0
TRANSP:OPAQUE
END:VEVENT
END:VCALENDAR