BEGIN:VCALENDAR
VERSION:2.0
PRODID:-//jEvents 2.0 for Joomla//EN
CALSCALE:GREGORIAN
METHOD:PUBLISH
BEGIN:VEVENT
UID:03acbc286f89f307ab2d60e4109a7fe8
CATEGORIES:18. Bezirk
CREATED:20191022T101305
SUMMARY: Rückbildung & Beckenboden Basiskurs
LOCATION:SPIELRINGEL Mollgasse 11-13
DESCRIPTION:Euer Baby ist nun da, ihr seid schon ein bisschen eingespielt und Du möchte
 st wieder in deine „alte Form“ kommen? Du möchtest deinen Beckenboden und d
 einen ganzen Körper kräftigen?\nDann bist du mit deinem Baby in unserem 5-W
 ochen-Rückbildungskurs richtig.\nStart:\n 22.10.2019  mit  Angelika   (http
 ://schwangerschaft-elternschaft.at/das-team/angelika/)(Physiotherapeutin)\n
 Kurstag: \n Dienstag 10:45-11:30\nTermine: 22.10., 29.10., 5.11., 12.11., 1
 9.11.\nKosten:\n € 65,- (5-Wochen-Kurs)\n(bitte vor der ersten Einheit über
 weisen)\nInfo &amp; Anmeldung:\ninfo@angelikamoyzisch.at (mailto:info@angel
 ikamoyzisch.at)\n
X-ALT-DESC;FMTTYPE=text/html:<div><p>Euer Baby ist nun da, ihr seid schon ein bisschen eingespielt und D
 u möchtest wieder in deine „alte Form“ kommen? Du möchtest deinen Beckenbod
 en und deinen ganzen Körper kräftigen?</p></div><div><p>Dann bist du mit de
 inem Baby in unserem 5-Wochen-Rückbildungskurs richtig.</p><p><span class="
 text-primary">Start:</span><br /> 22.10.2019<span class="text-primary">  </
 span>mit<span class="text-primary">  </span><a href="http://schwangerschaft
 -elternschaft.at/das-team/angelika/">Angelika  </a>(Physiotherapeutin)</p><
 p><span class="text-primary">Kurstag: </span><br /> Dienstag 10:45-11:30</p
 ><p><span class="text-primary">Termine:</span> 22.10., 29.10., 5.11., 12.11
 ., 19.11.</p><p><span class="text-primary">Kosten:</span><br /> € 65,- (5-W
 ochen-Kurs)</p><p>(bitte vor der ersten Einheit überweisen)</p><p><span cla
 ss="text-primary">Info &amp; Anmeldung:</span><br /><a href="mailto:info@an
 gelikamoyzisch.at" target="_blank" rel="noopener noreferrer">info@angelikam
 oyzisch.at</a></p></div>
CONTACT:http://schwangerschaft-elternschaft.at/angebote/bewegung-entspannung/rueckbildung-beckenboden-basis/
DTSTAMP:20260425T153545
DTSTART:20191105T094500
DTEND:20191105T103000
SEQUENCE:0
TRANSP:OPAQUE
END:VEVENT
END:VCALENDAR