BEGIN:VCALENDAR
VERSION:2.0
PRODID:-//jEvents 2.0 for Joomla//EN
CALSCALE:GREGORIAN
METHOD:PUBLISH
BEGIN:VEVENT
UID:915b0a42cf0196cad972a9c9dd842623
CATEGORIES:7. Bezirk
CREATED:20191022T220431
SUMMARY:Rückbildungskurs mit Baby
LOCATION:7sternpraxis\, Stiftgasse 21/17\, 1070
DESCRIPTION:Rückbildungskurs (6 Einheiten) mit vielen wunderbaren physiotherapeutischen
  Übungen, aneinander aufbauend, max. 8 Teilnehmerinnen, Babys sind willkomm
 en\n
X-ALT-DESC;FMTTYPE=text/html:<p>Rückbildungskurs (6 Einheiten) mit vielen wunderbaren physiotherapeutisc
 hen Übungen, aneinander aufbauend, max. 8 Teilnehmerinnen, Babys sind willk
 ommen</p>
CONTACT:Jana Köbler, 0676/9419108, jana@babymassagen.at
X-EXTRAINFO:[preis='13000'][anmeldung='true']
DTSTAMP:20260423T161657
DTSTART:20191212T093000
DTEND:20191212T110000
SEQUENCE:0
TRANSP:OPAQUE
END:VEVENT
END:VCALENDAR