BEGIN:VCALENDAR
VERSION:2.0
PRODID:-//jEvents 2.0 for Joomla//EN
CALSCALE:GREGORIAN
METHOD:PUBLISH
BEGIN:VEVENT
UID:eeb10354875c5405c2a603ad4b061341
CATEGORIES:7. Bezirk
CREATED:20191022T235611
SUMMARY:Babymassagekurs
LOCATION:Feelgoodstudio\, Burggasse 31/7\, 1070 Wien
DESCRIPTION:Du lernst die ayurvedische Babyölmassage (das Abhyanga) in einer kleinen Gr
 uppe (max. 6 Babys). Ich bin Physiotherapeutin und leite Babymassagenkurse 
 in Wien schon 15 Jahre. In kleinen Gruppen kann ich die Bedürfnisse von jed
 en Baby erkennen. In meinen Kursen vermittele ich tieferes Wissen über sens
 o-motorische Entwicklung der Babys. Babys lernen hauptsächlich durch Berühr
 ung und Bewegung.\nRegelmäßige Ölmassage wirkt sehr positiv auf die Verdauu
 ng, das Immunsystem, auf das Nervensystem, auf den Muskeltonus und auf den 
 Schlafrhythmus. Babymassage macht glücklich da sanfte liebevolle Berührunge
 n Glückshormone zaubern können. Auf meiner Homepage www.babymassagen.at (ht
 tp://www.babymassagen.at/) erfährst du viel mehr über die vielfältige Wirku
 ng der Babymassage.\nDer Kurs findet mittwochs vormittags statt. \nEin Kurs
  besteht aus 3 Einheiten á 2 Std. Wir haben nach der Massage Zeit gemütlich
  Tee zu trinken und Interessantes über Babyölmassage zu erfahren.\nPreis 95
 ,-€\nLeitung: Jana Köbler, Physiotherapeutin &amp; Ayurveda Wohlfühlpraktik
 erin \n \n
X-ALT-DESC;FMTTYPE=text/html:<p>Du lernst die <strong>ayurvedische Babyölmassage</strong> (das Abhyanga)
  in einer kleinen Gruppe (max. 6 Babys). Ich bin Physiotherapeutin und leit
 e Babymassagenkurse in Wien schon 15 Jahre. In kleinen Gruppen kann ich die
  Bedürfnisse von jeden Baby erkennen. In meinen Kursen vermittele ich tiefe
 res Wissen über senso-motorische Entwicklung der Babys. Babys lernen haupts
 ächlich durch Berührung und Bewegung.</p><p>Regelmäßige Ölmassage wirkt seh
 r positiv auf die Verdauung, das Immunsystem, auf das Nervensystem, auf den
  Muskeltonus und auf den Schlafrhythmus. Babymassage macht glücklich da san
 fte liebevolle Berührungen Glückshormone zaubern können. Auf meiner Homepag
 e <a href="http://www.babymassagen.at/">www.babymassagen.at</a> erfährst du
  viel mehr über die vielfältige Wirkung der Babymassage.</p><p><strong>Der 
 Kurs findet mittwochs vormittags statt. </strong></p><p>Ein Kurs besteht au
 s 3 Einheiten á 2 Std. Wir haben nach der Massage Zeit gemütlich Tee zu tri
 nken und Interessantes über Babyölmassage zu erfahren.</p><p>Preis 95,-€</p
 ><p><strong>Leitung: </strong>Jana Köbler, Physiotherapeutin &amp; Ayurveda
  Wohlfühlpraktikerin </p><p> </p>
CONTACT:Anmeldung erforderlich - Jana 0676-9419108 oder jana@babymassagen.at
DTSTAMP:20260425T132356
DTSTART:20191127T093000
DTEND:20191127T113000
SEQUENCE:0
TRANSP:OPAQUE
END:VEVENT
END:VCALENDAR