BEGIN:VCALENDAR
VERSION:2.0
PRODID:-//jEvents 2.0 for Joomla//EN
CALSCALE:GREGORIAN
METHOD:PUBLISH
BEGIN:VEVENT
UID:18c827966897d9909acf8ac9d2ef685d
CATEGORIES:18. Bezirk
CREATED:20191025T094101
SUMMARY: Spielgruppe mit Musik für Kleinkinder (12- 24 Monate)
LOCATION:SPIELRINGEL Mollgasse 11-13
DESCRIPTION:<p><span class="text-primary">Start:</span><br /> 28.10. 2019 mit Susanne</
 p><p><span class="text-primary">Kurstag</span>:<br /> Montag 16:00-17:30</p
 ><p><span class="text-primary">Termine:</span></p><p>28.10., 4.11., 18.11.,
  25.11. und 2.12.</p><p><span class="text-primary">Kosten:</span></p><p>€ 9
 0,- (5 Wochen-Kurs)</p><p><span class="text-primary">Info &amp; Anmeldung:<
 /span><br /><a href="mailto:kontakt@schwangerschaft-elternschaft.at">office
 @spielringel.at</a></p><p> </p><div id="c235" class="frame frame-default fr
 ame-type-text frame-background-none frame-no-backgroundimage frame-space-be
 fore-none frame-space-after-none"><div class="frame-container"><div class="
 frame-inner"><p>Gemeinsam werden wir singen, musizieren und tanzen. Der Gru
 ppenraum wird zum Erlebnis- und Bewegungsraum. In gemütlicher, kindgerechte
 r Umgebung können neue Bekanntschaften geschlossen werden.</p><p>Jede Stund
 e regen neue Spielimpulse zum Mitmachen an und geben Anreiz zur leichten Um
 setzung zu Hause.</p><p>Dein Kind hat die Möglichkeit sich frei in einer Gr
 uppe Gleichaltriger zu bewegen und dich trotzdem immer als sicheren Hafen z
 ur Einkehr bei sich zu haben.</p></div></div></div>
CONTACT:office@spielringel.at
DTSTAMP:20260423T095956
DTSTART:20191202T150000
DTEND:20191202T163000
SEQUENCE:0
TRANSP:OPAQUE
END:VEVENT
END:VCALENDAR