BEGIN:VCALENDAR
VERSION:2.0
PRODID:-//jEvents 2.0 for Joomla//EN
CALSCALE:GREGORIAN
METHOD:PUBLISH
BEGIN:VEVENT
UID:3951cf2fe3eae06e39dd604604045032
CATEGORIES:18. Bezirk
CREATED:20191104T100526
SUMMARY:MamaWORKOUT
LOCATION:SPIELRINGEL Mollgasse 11-13
DESCRIPTION:<p><strong>Du möchtest etwas für deine Fitness und dein Wohlbefinden tun un
 d dein Baby soll mit dabei sein? Dann ist MamaWORKOUT genau das Richtige fü
 r dich! Das einmalige MamaWORKOUT Konzept umfasst sowohl Rückbildung, als a
 uch ganzheitliches Fitnesstraining, angepasst an die veränderten körperlich
 en Bedingungen von Müttern im ersten Babyjahr. Dein Baby wird dabei liebvol
 l in die Übungen integriert, spielt, turnt oder kuschelt mit!</strong></p><
 p><strong>Herbstkurs 2 (9:45): 21.10., 4.11., 11.11., 18.11., 25.11., 2.12.
 , 9.12., 16.12., 13.1., 20.1.</strong></p><p><span class="text-primary">Kos
 ten:</span></p><p><strong>Herbstkurs (10 Einheiten) €135,-</strong><br /> 1
  Einheit á 60 Minuten (sofern noch ein Platz frei ist) € 15,-</p><p><span c
 lass="text-primary">Info &amp; Anmeldung:</span><br /><a href="mailto:eva.d
 erdak@gmx.at">eva.derdak@gmx.at</a><br /><a href="tel:+436507705810">+43 65
 0 7705810</a></p>
X-ALT-DESC;FMTTYPE=text/html:<p><strong>Du möchtest etwas für deine Fitness und dein Wohlbefinden tun un
 d dein Baby soll mit dabei sein? Dann ist MamaWORKOUT genau das Richtige fü
 r dich! Das einmalige MamaWORKOUT Konzept umfasst sowohl Rückbildung, als a
 uch ganzheitliches Fitnesstraining, angepasst an die veränderten körperlich
 en Bedingungen von Müttern im ersten Babyjahr. Dein Baby wird dabei liebvol
 l in die Übungen integriert, spielt, turnt oder kuschelt mit!</strong></p><
 p><strong>Herbstkurs 2 (9:45): 21.10., 4.11., 11.11., 18.11., 25.11., 2.12.
 , 9.12., 16.12., 13.1., 20.1.</strong></p><p><span class="text-primary">Kos
 ten:</span></p><p><strong>Herbstkurs (10 Einheiten) €135,-</strong><br /> 1
  Einheit á 60 Minuten (sofern noch ein Platz frei ist) € 15,-</p><p><span c
 lass="text-primary">Info &amp; Anmeldung:</span><br /><a href="mailto:eva.d
 erdak@gmx.at">eva.derdak@gmx.at</a><br /><a href="https://babymamas.at/tel:
 +436507705810">+43 650 7705810</a></p>
CONTACT:www.spielringel.at
X-EXTRAINFO:[preis='1500'][anmeldung='true']
DTSTAMP:20260423T094824
DTSTART:20191216T084500
DTEND:20191216T094500
SEQUENCE:0
TRANSP:OPAQUE
END:VEVENT
END:VCALENDAR