BEGIN:VCALENDAR
VERSION:2.0
PRODID:-//jEvents 2.0 for Joomla//EN
CALSCALE:GREGORIAN
METHOD:PUBLISH
BEGIN:VEVENT
UID:f6357af28217444622265a37e4e725fe
CATEGORIES:18. Bezirk
CREATED:20191104T100746
SUMMARY:MamaWORKOUT
LOCATION:SPIELRINGEL Mollgasse 11-13
DESCRIPTION:Du möchtest etwas für deine Fitness und dein Wohlbefinden tun und dein Baby
  soll mit dabei sein? Dann ist MamaWORKOUT genau das Richtige für dich! Das
  einmalige MamaWORKOUT Konzept umfasst sowohl Rückbildung, als auch ganzhei
 tliches Fitnesstraining, angepasst an die veränderten körperlichen Bedingun
 gen von Müttern im ersten Babyjahr. Dein Baby wird dabei liebvoll in die Üb
 ungen integriert, spielt, turnt oder kuschelt mit!\nHerbstkurs MamaWorkout:
  23.9., 30.9., 7.10., 14.10., 21.10., 4.11., 11.11., 18.11., 25.11., 2.12.\
 nKosten:\nHerbstkurs (10 Einheiten) €135,-\n 1 Einheit á 60 Minuten (sofern
  noch ein Platz frei ist) € 15,-\nInfo &amp; Anmeldung:\neva.derdak@gmx.at 
 (mailto:eva.derdak@gmx.at)\n+43 650 7705810\n \n
X-ALT-DESC;FMTTYPE=text/html:<p>Du möchtest etwas für deine Fitness und dein Wohlbefinden tun und dein B
 aby soll mit dabei sein? Dann ist <strong>MamaWORKOUT</strong> genau das Ri
 chtige für dich! Das einmalige <strong>MamaWORKOUT</strong> Konzept umfasst
  sowohl Rückbildung, als auch ganzheitliches Fitnesstraining, angepasst an 
 die veränderten körperlichen Bedingungen von Müttern im ersten Babyjahr. De
 in Baby wird dabei liebvoll in die Übungen integriert, spielt, turnt oder k
 uschelt mit!</p><p><strong>Herbstkurs MamaWorkout: 23.9., 30.9., 7.10., 14.
 10., 21.10., 4.11., 11.11., 18.11., 25.11., 2.12.</strong></p><p><span clas
 s="text-primary">Kosten:</span></p><p><strong>Herbstkurs (10 Einheiten) €13
 5,-</strong><br /> 1 Einheit á 60 Minuten (sofern noch ein Platz frei ist) 
 € 15,-</p><p><span class="text-primary">Info &amp; Anmeldung:</span><br /><
 a href="mailto:eva.derdak@gmx.at">eva.derdak@gmx.at</a><br /><a href="https
 ://babymamas.at/tel:+436507705810">+43 650 7705810</a></p><p> </p>
CONTACT:www.spielringel.at
X-EXTRAINFO:[preis='1500'][anmeldung='true']
DTSTAMP:20260423T185841
DTSTART:20191118T100000
DTEND:20191118T110000
SEQUENCE:0
TRANSP:OPAQUE
END:VEVENT
END:VCALENDAR