BEGIN:VCALENDAR
VERSION:2.0
PRODID:-//jEvents 2.0 for Joomla//EN
CALSCALE:GREGORIAN
METHOD:PUBLISH
BEGIN:VEVENT
UID:f831f40d06f5b7d0bf3cd923127e7354
CATEGORIES:18. Bezirk
CREATED:20191104T101846
SUMMARY:Babymassagekurs mit Momo
LOCATION:SPIELRINGEL Mollgasse 11-13
DESCRIPTION:Regelmäßige Babymassage…\n\n - stillt das Urbedürfnis nach Wärme, Liebe, Be
 rührung, der Geborgenheit und des Angenommenseins\n - der innige Körperkont
 akt fördert den Aufbau des Urvertrauens und stärkt die Bindung zwischen Bab
 y und Mama\n - fördert die Entwicklung des Nervensystems\n - vertieft die A
 tmung, verbessert die Durchblutung, regt das Immunsystem an und stärkt somi
 t den ganzen Organismus\n - intensiviert die Sinneswahrnehmung\n - lockert 
 die Muskulatur, verbessert das Körperbewusstsein und fördert die Beweglichk
 eit\n - verringert Koliken und Bauchschmerzen und hilft bei Zahnungsbeschwe
 rden\n - schafft Entspannung, Harmonie und Ausgeglichenheit\n - fördert die
  Kommunikation\n - erhöht die Oxytocinausschüttung bei Baby und Mama \nTerm
 ine:\n13.11., 20.11., 27.11., 11.12.\nKosten:\n€ 85,- (4 Einheiten)\n inklu
 sive Öl und Skript\nInfo &amp; Anmeldung: momoneun@yahoo.de (mailto:momoneu
 n@yahoo.de)\n
X-ALT-DESC;FMTTYPE=text/html:<p>Regelmäßige Babymassage…</p><ul class="list-normal"><li>stillt das Urbed
 ürfnis nach Wärme, Liebe, Berührung, der Geborgenheit und des Angenommensei
 ns</li><li>der innige Körperkontakt fördert den Aufbau des Urvertrauens und
  stärkt die Bindung zwischen Baby und Mama</li><li>fördert die Entwicklung 
 des Nervensystems</li><li>vertieft die Atmung, verbessert die Durchblutung,
  regt das Immunsystem an und stärkt somit den ganzen Organismus</li><li>int
 ensiviert die Sinneswahrnehmung</li><li>lockert die Muskulatur, verbessert 
 das Körperbewusstsein und fördert die Beweglichkeit</li><li>verringert Koli
 ken und Bauchschmerzen und hilft bei Zahnungsbeschwerden</li><li>schafft En
 tspannung, Harmonie und Ausgeglichenheit</li><li>fördert die Kommunikation<
 /li><li>erhöht die Oxytocinausschüttung bei Baby und Mama</li></ul><p> </p>
 <p><span class="text-primary">Termine:</span></p><p>13.11., 20.11., 27.11.,
  11.12.</p><p><span class="text-primary">Kosten:</span></p><p>€ 85,- (4 Ein
 heiten)<br /> inklusive Öl und Skript</p><p><span class="text-primary">Info
  &amp; Anmeldung: </span><a href="mailto:momoneun@yahoo.de" target="_blank"
  rel="noopener noreferrer">momoneun@yahoo.de</a></p>
CONTACT:www.spielringel.at
X-EXTRAINFO:[preis='8500'][anmeldung='true']
DTSTAMP:20260423T113314
DTSTART:20191204T090000
DTEND:20191204T100000
SEQUENCE:0
TRANSP:OPAQUE
END:VEVENT
END:VCALENDAR