BEGIN:VCALENDAR
VERSION:2.0
PRODID:-//jEvents 2.0 for Joomla//EN
CALSCALE:GREGORIAN
METHOD:PUBLISH
BEGIN:VEVENT
UID:5400cc9147bab56bcc079b362abad8d5
CATEGORIES:18. Bezirk
CREATED:20191125T092857
SUMMARY: Rückbildung & Beckenboden Basiskurs
LOCATION:SPIELRINGEL Mollgasse 11-13
DESCRIPTION:Euer Baby ist nun da, ihr seid schon ein bisschen eingespielt und Du möchte
 st wieder in deine „alte Form“ kommen? Du möchtest deinen Beckenboden und d
 einen ganzen Körper kräftigen?\nDann bist du mit deinem Baby in unserem 5-W
 ochen-Rückbildungskurs richtig.\nVorweihnachtskurs: 4 Wochen: 26.11., 3.12.
 , 10.12., 17.12. \nKosten: €52,-\nInfo &amp; Anmeldung:\ninfo@angelikamoyzi
 sch.at (mailto:info@angelikamoyzisch.at)\n
X-ALT-DESC;FMTTYPE=text/html:<div><p>Euer Baby ist nun da, ihr seid schon ein bisschen eingespielt und D
 u möchtest wieder in deine „alte Form“ kommen? Du möchtest deinen Beckenbod
 en und deinen ganzen Körper kräftigen?</p></div><div><p>Dann bist du mit de
 inem Baby in unserem 5-Wochen-Rückbildungskurs richtig.</p></div><p><strong
 >Vorweihnachtskurs: 4 Wochen: 26.11., 3.12., 10.12., 17.12. </strong></p><p
 ><strong>Kosten: €52,-</strong></p><p><span class="text-primary">Info &amp;
  Anmeldung:</span><br /><a href="mailto:info@angelikamoyzisch.at" target="_
 blank" rel="noopener noreferrer">info@angelikamoyzisch.at</a></p>
X-EXTRAINFO:[preis='5200'][anmeldung='true']
DTSTAMP:20260423T113233
DTSTART:20191217T094500
DTEND:20191217T103000
SEQUENCE:0
TRANSP:OPAQUE
END:VEVENT
END:VCALENDAR