BEGIN:VCALENDAR
VERSION:2.0
PRODID:-//jEvents 2.0 for Joomla//EN
CALSCALE:GREGORIAN
METHOD:PUBLISH
BEGIN:VEVENT
UID:eef5688b3f3decfc2ea0257c1582ea98
CATEGORIES:13. Bezirk
CREATED:20191125T131628
SUMMARY:Yoga für Schwangere
LOCATION:1130\, Rohrbacher Straße 10
DESCRIPTION:Yoga für Schwangere\nindividuelle Betreuung in Kleingruppen mit Geburtsvorb
 ereitung - \n10-Wochenkurse, Einstieg jederzeit möglich. Schnupperstunde mö
 glich.\noffice@yogakurse.at\n\n01/4818545\n
X-ALT-DESC;FMTTYPE=text/html:<p>Yoga für Schwangere</p><p>individuelle Betreuung in Kleingruppen mit Geb
 urtsvorbereitung - <br />10-Wochenkurse, Einstieg jederzeit möglich. Schnup
 perstunde möglich.</p><p><a href="mailto:office@yogakurse.at">office@yogaku
 rse.at<br /><br />01/4818545</a></p>
CONTACT:office@yogakurse.at, 01/4818545
X-EXTRAINFO:[preis='13000'][anmeldung='true']
DTSTAMP:20260423T185748
DTSTART:20191127T160000
DTEND:20191127T173000
SEQUENCE:0
TRANSP:OPAQUE
END:VEVENT
END:VCALENDAR