BEGIN:VCALENDAR
VERSION:2.0
PRODID:-//jEvents 2.0 for Joomla//EN
CALSCALE:GREGORIAN
METHOD:PUBLISH
BEGIN:VEVENT
UID:91da66f7968b85963f478cd41fb91c77
CATEGORIES:2. Bezirk
CREATED:19700101T010000
SUMMARY:Babymassage (6 Wochen - 6 Monate)
LOCATION:EKiZ Kind&amp;Kegel\, 2.\, Praterstraße 14/8
DESCRIPTION:Babymassage\nZeitpunkt: Ab 6 Wochen bis 6 Monate\n5 Einheiten zu jeweils 60
  Minuten (45 min Massage)\nDienstag, 10:00-11:00\n3./10./17./24./31.8. 2021
 \nAnmeldung bis spätestens Montag, 2.August 21, 15h!\nKosten: 110€ \nDie Ba
 bymassage ist eine wunderbare Möglichkeit, die Eltern-Kind-Beziehung zu stä
 rken, Vertrauen aufzubauen und deinem Baby eine wohltuende Entspannung zu s
 chenken. Außerdem hat die Massage gesundheitsfördernde Wirkungen wie zum Be
 ispiel bei Verdauungsproblem, Erkältungen oder zur Stimulation des Nervensy
 stems. Sie dient auch der Entwicklungsförderung, denn dein Baby lernt sich 
 erst selbst entdecken. Durch Berührungen und Bewegungen deines Kindes kanns
 t du ihm dabei helfen, sich selbst kennenzulernen. In verschiedenen Modulen
  werde ich dir zeigen, wie du dein Baby mit einfachen Griffen nach Frédéric
 k Leboyer (Massage mit Öl) verwöhnen kannst.\n \nBitte bringe zum Kurs mit:
 \n\n - Wickelunterlagen\n - Eine Decke oder ein Handtuch\n - Eine Mullwinde
 l\n - Wasser zu trinkenDas Massageöl werde ich dir zur Verfügung stellen. N
 atürlich kannst du auch gerne dein eigenes Öl mitbringen, wenn du das möcht
 est.\nIm Anschluss bietet sich die Gelegenheit, sich mit anderen Müttern un
 d Vätern auszutauschen oder den Rat einer Hebamme einzuholen ? Ich freue mi
 ch auf dich und dein Baby!\n
X-ALT-DESC;FMTTYPE=text/html:<p><strong>Babymassage</strong></p><p><strong>Zeitpunkt: </strong>Ab 6 Woch
 en bis 6 Monate</p><p>5 Einheiten zu jeweils 60 Minuten (45 min Massage)</p
 ><p>Dienstag, 10:00-11:00</p><p>3./10./17./24./31.8. 2021</p><p>Anmeldung b
 is spätestens Montag, 2.August 21, 15h!</p><p><strong>Kosten: 110€ </strong
 ></p><p>Die Babymassage ist eine wunderbare Möglichkeit, die Eltern-Kind-Be
 ziehung zu stärken, Vertrauen aufzubauen und deinem Baby eine wohltuende En
 tspannung zu schenken. Außerdem hat die Massage gesundheitsfördernde Wirkun
 gen wie zum Beispiel bei Verdauungsproblem, Erkältungen oder zur Stimulatio
 n des Nervensystems. Sie dient auch der Entwicklungsförderung, denn dein Ba
 by lernt sich erst selbst entdecken. Durch Berührungen und Bewegungen deine
 s Kindes kannst du ihm dabei helfen, sich selbst kennenzulernen. In verschi
 edenen Modulen werde ich dir zeigen, wie du dein Baby mit einfachen Griffen
  nach Frédérick Leboyer (Massage mit Öl) verwöhnen kannst.</p><p> </p><p>Bi
 tte bringe zum Kurs mit:</p><ul><li>Wickelunterlagen</li><li>Eine Decke ode
 r ein Handtuch</li><li>Eine Mullwindel</li><li>Wasser zu trinken</li></ul><
 p>Das Massageöl werde ich dir zur Verfügung stellen. Natürlich kannst du au
 ch gerne dein eigenes Öl mitbringen, wenn du das möchtest.</p><p>Im Anschlu
 ss bietet sich die Gelegenheit, sich mit anderen Müttern und Vätern auszuta
 uschen oder den Rat einer Hebamme einzuholen ? Ich freue mich auf dich und 
 dein Baby!</p>
CONTACT:info@kind-und-kegel.at, 01 503 71 88, www.kind-und-kegel.at
X-EXTRAINFO:[preis='11000'][anmeldung='true']
DTSTAMP:20260423T141521
DTSTART:20210817T080000
DTEND:20210817T090000
SEQUENCE:0
TRANSP:OPAQUE
END:VEVENT
END:VCALENDAR