BEGIN:VCALENDAR
VERSION:2.0
PRODID:-//jEvents 2.0 for Joomla//EN
CALSCALE:GREGORIAN
METHOD:PUBLISH
BEGIN:VEVENT
UID:1eab889007a1df2e0c994cfa3300b6a1
CATEGORIES:7. Bezirk
CREATED:20211014T201641
SUMMARY:Online: Shiatsu für Babys - In Verbindung gehen
LOCATION:ONLINE via Zoom
DESCRIPTION:Shiatsu ist Ankommen.Wir heißen dein Baby und dich Willkommen in eurem neue
 n Leben, in neuen Erfahrungen und Wahrnehmungen. Shiatsu hilft euch dabei, 
 euch darin wahrzunehmen.\n \nShiatsu ist Beziehung.Du gehst in Verbindung m
 it deinem Baby, lernst es kennen und ihr werdet sehen: es braucht nicht vie
 le Dinge, sondern vor allem deine Hände, deine Wärme, deine Geborgenheit.\n
 \nShiatsu unterstützt euch beide in der Entwicklung eurer Beziehung zueinan
 der und legt eine gute Basis für ein ausgeglichenes Leben deines Babys.\n \
 nIm Baby-Shiatsu lernst du, wie dich mit wenigen Handgriffen selbst stärken
  und deinem Baby Gutes tun kannst.\n - Ich zeige dir, was für Shiatsu zuhau
 se, für euch beide und für eure Familie, wichtig ist\n\n - Du lernst, wie d
 ie Energie in den Meridianen deines Kindes fließt und übst dabei gezielte M
 assage-Abläufe, die auch mittels Aufzeichnungen immer wieder angeschaut wer
 den können\n\n - Wir üben den sanften, achtsamen Druck des Shiatsu auf das 
 Gewebe deines Babys\n\n - Dieser Druck hilft deinem Kind dabei, sich selbst
  wahrzunehmen und zu entspannen.\n\n - Er wirkt regulierend auf das Nervens
 ystem, die Muskulatur, die Verdauung und kann so viele Beschwerden im Babya
 lter (aber auch später) vorbeugen.\n\n - Du lernst über die motorische &amp
 ; sensorische Entwicklung deines Babys und kannst durch Shiatsu positiv dar
 auf einwirken.\n \nAlle Infos &amp; die Anmeldung findest du hier:\n
X-ALT-DESC;FMTTYPE=text/html:<h3 style="white-space: pre-wrap;" data-pm-slice="1 1 []">Shiatsu ist Ankom
 men.</h3><p class="" style="white-space: pre-wrap;">Wir heißen dein Baby un
 d dich Willkommen in eurem neuen Leben, in neuen Erfahrungen und Wahrnehmun
 gen. Shiatsu hilft euch dabei, euch darin wahrzunehmen.</p><p class="" styl
 e="white-space: pre-wrap;"> </p><div id="block-yui_3_17_2_1_1633078275593_1
 3224" class="sqs-block html-block sqs-block-html" data-block-type="2"><div 
 id="yui_3_17_2_1_1634234736634_556" class="sqs-block-content"><h3 class="pr
 eFade fadeIn" style="white-space: pre-wrap; transition-timing-function: eas
 e; transition-duration: 0.9s; transition-delay: 0.182609s;">Shiatsu ist Bez
 iehung.</h3><p class="preFade fadeIn" style="white-space: pre-wrap; transit
 ion-timing-function: ease; transition-duration: 0.9s; transition-delay: 0.1
 8913s;">Du gehst in Verbindung mit deinem Baby, lernst es kennen und ihr we
 rdet sehen: es braucht nicht viele Dinge, sondern vor allem deine Hände, de
 ine Wärme, deine Geborgenheit.</p><p class="preFade fadeIn" style="white-sp
 ace: pre-wrap; transition-timing-function: ease; transition-duration: 0.9s;
  transition-delay: 0.18913s;"><br />Shiatsu unterstützt euch beide in der E
 ntwicklung eurer Beziehung zueinander und legt eine gute Basis für ein ausg
 eglichenes Leben deines Babys.</p><p class="preFade fadeIn" style="white-sp
 ace: pre-wrap; transition-timing-function: ease; transition-duration: 0.9s;
  transition-delay: 0.18913s;"> </p><h4 id="yui_3_17_2_1_1634234736634_569" 
 class="preFade fadeIn" style="white-space: pre-wrap; transition-timing-func
 tion: ease; transition-duration: 0.9s; transition-delay: 0.215217s;">Im Bab
 y-Shiatsu lernst du, wie dich mit wenigen Handgriffen selbst stärken und de
 inem Baby Gutes tun kannst.</h4><ul data-rte-list="default"><li><p class="p
 reFade fadeIn" style="white-space: pre-wrap; transition-timing-function: ea
 se; transition-duration: 0.9s; transition-delay: 0.221739s;">Ich zeige dir,
  was für Shiatsu zuhause, für euch beide und für eure Familie, wichtig ist<
 /p></li><li><p class="preFade fadeIn" style="white-space: pre-wrap; transit
 ion-timing-function: ease; transition-duration: 0.9s; transition-delay: 0.2
 28261s;">Du lernst, wie die Energie in den Meridianen deines Kindes fließt 
 und übst dabei <strong>gezielte Massage-Abläufe</strong>, die auch mittels 
 Aufzeichnungen immer wieder angeschaut werden können</p></li><li><p class="
 preFade fadeIn" style="white-space: pre-wrap; transition-timing-function: e
 ase; transition-duration: 0.9s; transition-delay: 0.234783s;">Wir üben den 
 <strong>sanften, achtsamen Druck</strong> des Shiatsu auf das Gewebe deines
  Babys</p></li><li><p class="preFade fadeIn" style="white-space: pre-wrap; 
 transition-timing-function: ease; transition-duration: 0.9s; transition-del
 ay: 0.241304s;">Dieser Druck hilft deinem Kind dabei, <strong>sich selbst w
 ahrzunehmen</strong> und <strong>zu entspannen.</strong></p></li><li><p cla
 ss="preFade fadeIn" style="white-space: pre-wrap; transition-timing-functio
 n: ease; transition-duration: 0.9s; transition-delay: 0.247826s;"><strong>E
 r wirkt regulierend</strong> auf das Nervensystem, die Muskulatur, die Verd
 auung und kann so viele Beschwerden im Babyalter (aber auch später) vorbeug
 en.</p></li><li><p class="preFade fadeIn" style="white-space: pre-wrap; tra
 nsition-timing-function: ease; transition-duration: 0.9s; transition-delay:
  0.254348s;">Du lernst über die <strong>motorische &amp; sensorische Entwic
 klung</strong> deines Babys und kannst durch Shiatsu positiv darauf einwirk
 en.</p></li></ul><p> </p><p>Alle Infos &amp; die Anmeldung findest du hier:
 </p></div></div>
CONTACT:hello@marionfritz.com, www.marionfritz.com/inverbindunggehen
X-EXTRAINFO:[preis='14900'][anmeldung='true']
DTSTAMP:20260423T093528
DTSTART:20211102T083000
DTEND:20211102T093000
SEQUENCE:0
TRANSP:OPAQUE
END:VEVENT
END:VCALENDAR