BEGIN:VCALENDAR
VERSION:2.0
PRODID:-//jEvents 2.0 for Joomla//EN
CALSCALE:GREGORIAN
METHOD:PUBLISH
BEGIN:VEVENT
UID:9805b59eec93ff0a6f6e6f2487f2173a
CATEGORIES:8. Bezirk
CREATED:20220127T103816
SUMMARY:Eltern-Kind-Turnen (1,5-3 Jahre)
LOCATION:VHS Josefstadt\, Schmidgasse 18
DESCRIPTION:Dieses abwechslungsreiche Spiel- und Bewegungsprogramm bietet Kindern die M
 öglichkeit, gemeinsam mit ihren Eltern neue Bewegungserfahrungen zu machen.
  Sie lernen so mehr Sicherheit und Vertrauen in die eigenen Fähigkeiten. Of
 t findet in diesem Rahmen der erste, behutsam begleitete Kontakt mit andere
 n Kindern statt. Altersgerechte Spiele, Tänze und jede Menge Gelegenheit zu
 m Turnen und Toben fördern Beweglichkeit, Geschicklichkeit und Rhythmusgefü
 hl. Ziel: Die Kinder verfügen über mehr Bewegungssicherheit und -freiheit i
 m Alltag.\n
X-ALT-DESC;FMTTYPE=text/html:<p>Dieses abwechslungsreiche Spiel- und Bewegungsprogramm bietet Kindern di
 e Möglichkeit, gemeinsam mit ihren Eltern neue Bewegungserfahrungen zu mach
 en. Sie lernen so mehr Sicherheit und Vertrauen in die eigenen Fähigkeiten.
  Oft findet in diesem Rahmen der erste, behutsam begleitete Kontakt mit and
 eren Kindern statt. Altersgerechte Spiele, Tänze und jede Menge Gelegenheit
  zum Turnen und Toben fördern Beweglichkeit, Geschicklichkeit und Rhythmusg
 efühl. Ziel: Die Kinder verfügen über mehr Bewegungssicherheit und -freihei
 t im Alltag.</p>
CONTACT:josefstadt@vhs.at
X-EXTRAINFO:[preis='6300'][anmeldung='true']
DTSTAMP:20260423T113212
DTSTART:20220218T080000
DTEND:20220218T093000
SEQUENCE:0
TRANSP:OPAQUE
END:VEVENT
END:VCALENDAR