BEGIN:VCALENDAR
VERSION:2.0
PRODID:-//jEvents 2.0 for Joomla//EN
CALSCALE:GREGORIAN
METHOD:PUBLISH
BEGIN:VEVENT
UID:682f50d8e421212d0010be98654cd8ca
CATEGORIES:8. Bezirk
CREATED:20220127T104208
SUMMARY:Babyturnen (5-15 Monate)
LOCATION:VHS Josefstadt\, Schmidgasse 18\, 1080 Wien
DESCRIPTION:<p>In abwechselnder Freispielzeit und angeleitetem Tun, lernen die Babys ih
 ren Körper besser kennen und können mit der Unterstützung und Sicherheit vo
 n Mama /Papa, den Bewegungsschatz und die Wahrnehmung fördern. Wir fördern 
 den Spaß an der Bewegung und schulen, ganz nebenbei, die Motorik, indem wir
  gemeinsam spielen, singen, tanzen und turnen.</p>
CONTACT:josefstadt@vhs.at
X-EXTRAINFO:[preis='7040'][anmeldung='true']
DTSTAMP:20260423T141814
DTSTART:20220218T093000
DTEND:20220218T110000
SEQUENCE:0
TRANSP:OPAQUE
END:VEVENT
END:VCALENDAR