BEGIN:VCALENDAR
VERSION:2.0
PRODID:-//jEvents 2.0 for Joomla//EN
CALSCALE:GREGORIAN
METHOD:PUBLISH
BEGIN:VEVENT
UID:d84b1ccaf9148ad8c915de1eb797e521
CATEGORIES:6. Bezirk
CREATED:20220127T115223
SUMMARY:Indische Babymassage
LOCATION:VHS Mariahilf\, Damböckgasse 4\, 1060 Wien
DESCRIPTION:<p>In diesem Kurs lernen Sie die Geheimnisse der traditionellen indischen B
 abymassage, die seit Generationen von Mutter zu Mutter überliefert werden. 
 Nehmen Sie die Signale Ihres Kindes wahr, bevor Sie zu massieren beginnen. 
 Lassen Sie sich für die Berührungen Zeit und achten Sie immer darauf, wie I
 hr Baby reagiert. Schritt für Schritt lernen Sie, wie Sie Ihr Baby mit eine
 r Wohlfühlmassage verwöhnen können.</p>
CONTACT:mariahilf@vhs.at
X-EXTRAINFO:[preis='6030'][anmeldung='true']
DTSTAMP:20260423T094838
DTSTART:20220222T090000
DTEND:20220222T103000
SEQUENCE:0
TRANSP:OPAQUE
END:VEVENT
END:VCALENDAR