BEGIN:VCALENDAR
VERSION:2.0
PRODID:-//jEvents 2.0 for Joomla//EN
CALSCALE:GREGORIAN
METHOD:PUBLISH
BEGIN:VEVENT
UID:973d218d03e1e708ee05ccfc6e9ca8d9
CATEGORIES:2. Bezirk
CREATED:20220210T172651
SUMMARY:Babyzeichensprache in Tini's Kinderzimmer
LOCATION:Tini's Kinderzimmer\, Wolfgang-Schmälzlgasse 18\, 1020 Wien
DESCRIPTION:Babys kommunizieren von Geburt an mit Hilfe von Mimik und Gestik mit ihrer 
 Umgebung. Wir bringen ihnen automatisch einfache Handzeichen bei, damit sie
  sich besser mitteilen können, wie „winken, klatschen, bussi schicken“.\nIn
  diesem Kurs erlernst du bis zu 100 weitere einfache Handzeichen, die den B
 abys und Kleinkinder ermöglichen, sich schon früh auszudrücken. So kannst d
 u dein Kind verstehen, bevor es noch sprechen kann.\n\nAuf spielerische Art
  und Weise lernen dein Baby und du mit Hilfe von von Liedern, Tänzen, Reime
 n und Bilderbüchern in einer entspannten Atmosphäre die Babyzeichen. Ihr we
 rdet überrascht sein, wie viel eure Zwerge schon in frühem Alter ausdrücken
  wollen und können. Sie brauchen von uns nur das Werkzeug dazu.\n \nVorteil
 e\n· Babyzeichen ermöglichen Einblicke in die Gedankenwelt deiner Babys und
  Kinder\n· Babyzeichen erleichtern das Verstehen und Lernen von Worten\n· F
 rustration von Eltern und Kind wird verringert\n· Verstehen und verstanden 
 werden macht glücklich\n· Gemeinsames Musizieren, Tanzen &amp; Spaß haben\n
  \nKursleitung: Simone (https://www.tiniskinderzimmer.at/kontakt#A2EEF5E7-2
 267-4351-82D5-F5D8F0E845C7)\nDienstag, 09:15 - 10:15 Uhr\nKosten: 10 Einhei
 ten 170€      \nZwillinge 270€\nTermine:\n22. Februar, 08. März,\n15. März,
  22. März\n29. März, 5. April\n19. April, 26. April,3. Mai, 10. Mai\nDer Ei
 nstieg in den Kurs ist jederzeit möglich- sofern Platz ist. Es gilt der ali
 quote Kursbeitrag ab Einstiegsdatum.\n
X-ALT-DESC;FMTTYPE=text/html:<p>Babys kommunizieren von Geburt an mit Hilfe von Mimik und Gestik mit ihr
 er Umgebung. Wir bringen ihnen automatisch einfache Handzeichen bei, damit 
 sie sich besser mitteilen können, wie „winken, klatschen, bussi schicken“.<
 br />In diesem Kurs erlernst du bis zu 100 weitere einfache Handzeichen, di
 e den Babys und Kleinkinder ermöglichen, sich schon früh auszudrücken. So k
 annst du dein Kind verstehen, bevor es noch sprechen kann.</p><p><br />Auf 
 spielerische Art und Weise lernen dein Baby und du mit Hilfe von von Lieder
 n, Tänzen, Reimen und Bilderbüchern in einer entspannten Atmosphäre die Bab
 yzeichen. Ihr werdet überrascht sein, wie viel eure Zwerge schon in frühem 
 Alter ausdrücken wollen und können. Sie brauchen von uns nur das Werkzeug d
 azu.</p><p> </p><p>Vorteile<br />· Babyzeichen ermöglichen Einblicke in die
  Gedankenwelt deiner Babys und Kinder<br />· Babyzeichen erleichtern das Ve
 rstehen und Lernen von Worten<br />· Frustration von Eltern und Kind wird v
 erringert<br />· Verstehen und verstanden werden macht glücklich<br />· Gem
 einsames Musizieren, Tanzen &amp; Spaß haben</p><p> </p><p>Kursleitung: <a 
 class="link1" href="https://www.tiniskinderzimmer.at/kontakt#A2EEF5E7-2267-
 4351-82D5-F5D8F0E845C7">Simone</a><br />Dienstag, 09:15 - 10:15 Uhr</p><p>K
 osten: 10 Einheiten 170€      </p><p>Zwillinge 270€</p><p>Termine:</p><p>22
 . Februar, 08. März,<br />15. März, 22. März<br />29. März, 5. April<br />1
 9. April, 26. April,3. Mai, 10. Mai</p><p>Der Einstieg in den Kurs ist jede
 rzeit möglich- sofern Platz ist. Es gilt der aliquote Kursbeitrag ab Einsti
 egsdatum.</p>
CONTACT:www.tiniskinderzimmer.at
X-EXTRAINFO:[preis='1700'][anmeldung='true']
DTSTAMP:20260423T141437
DTSTART:20220222T081500
DTEND:20220222T091500
SEQUENCE:0
TRANSP:OPAQUE
END:VEVENT
END:VCALENDAR