BEGIN:VCALENDAR
VERSION:2.0
PRODID:-//jEvents 2.0 for Joomla//EN
CALSCALE:GREGORIAN
METHOD:PUBLISH
BEGIN:VEVENT
UID:23c3e84a86bdf69c7e6d672c3c5cb315
CATEGORIES:3. Bezirk
CREATED:20220223T142240
SUMMARY:Klangzwerglein
LOCATION:derkreativraum
DESCRIPTION:<p><strong>Kursleiterin:</strong> <a href="https://www.derkreativraum.at/ku
 rsleiter/martina-iby/">Martina Iby</a><br /><strong>Alter:</strong> ab ca. 
 6 Monate<br /><strong>Kosten:</strong> € 96 (6 x 16€)<br /><strong>Termine:
 </strong> 6 Mal ab 28.2.2022</p><p>Musik begleitet uns Menschen von Anfang 
 an. Der Herzschlag der Mutter führt zur ersten Begegnung von Musik und Rhyt
 hmus. Musikalische Früherziehung fördert die Entwicklung eines Kindes in vi
 elen Facetten. Babys und Kleinkinder reagieren besonders auf hohe Klänge vo
 n Instrumenten wie Fingerzimbeln, Glockenspielen und Triangeln. Auch die Si
 ngstimme der Eltern zaubert einen besonderen Klanggenuss für die Kleinen.</
 p><p>Der Kurs soll sowohl Kinder als auch Eltern anregen und ihr Interesse 
 für Musik wecken. Das Programm ist breit gefächert. Wir werden viele Klänge
  von Instrumenten entdecken, singen, tanzen und lustige Kinderreime kennen 
 lernen.</p>
CONTACT:06643935509 oder office@derkreativraum.at
X-EXTRAINFO:[preis='9600'][anmeldung='true']
DTSTAMP:20260423T094837
DTSTART:20220425T073000
DTEND:20220425T082000
SEQUENCE:0
TRANSP:OPAQUE
END:VEVENT
END:VCALENDAR