BEGIN:VCALENDAR
VERSION:2.0
PRODID:-//jEvents 2.0 for Joomla//EN
CALSCALE:GREGORIAN
METHOD:PUBLISH
BEGIN:VEVENT
UID:944fdd969347c8b085a51939e9be2abd
CATEGORIES:3. Bezirk
CREATED:20220223T143302
SUMMARY:Musikgarten
LOCATION:derkreativraum
DESCRIPTION:<section class="l-section wpb_row us_custom_4d0e78a5 height_auto color_prim
 ary"><div class="l-section-h i-cf"><div class="g-cols vc_row via_grid cols_
 2-3 laptops-cols_inherit tablets-cols_1 mobiles-cols_1 valign_middle type_d
 efault"><div class="wpb_column vc_column_container"><div class="vc_column-i
 nner"><h1 class="w-post-elm post_title us_custom_0e7c631c entry-title color
 _link_inherit">Musikgarten</h1><div class="w-post-elm post_content"><p>Musi
 kgarten ist ein bewährtes musikalisches Konzept zur musikalischen Frühförde
 rung von Kindern.</p></div></div></div></div></div></section><section class
 ="l-section wpb_row us_custom_e11ab399 height_huge"><div class="l-section-h
  i-cf"><div class="g-cols vc_row via_grid cols_1 laptops-cols_inherit table
 ts-cols_inherit mobiles-cols_1 valign_top type_default"><div class="wpb_col
 umn vc_column_container"><div class="vc_column-inner"><div class="w-post-el
 m post_content without_sections"><p><strong>Kursleiterin:</strong> <a href=
 "https://www.derkreativraum.at/kursleiter/martina-sommersguter/" target="_b
 lank" rel="noopener noreferrer">Martina Sommersguter</a><br /><strong>Koste
 n:</strong> 128 € (8 x 16€)<br /><strong>Termine:</strong> 8 Mal</p><p>Durc
 h Singen, Musizieren, Bewegen und Musikhören wird die natürliche musikalisc
 he Veranlagung der Kinder geweckt und entwickelt. Einfache Instrumente wie 
 Klanghölzer, Glöckchen, Rasseln und Trommeln führen in die Welt der Klänge 
 ein.</p><p>Ziel von Musikgarten ist, Kinder spielerisch an Musik heranzufüh
 ren. Die Kinder sollen ohne Leistungserwartungen die Gelegenheit bekommen, 
 Musik aufzunehmen und selbst zu gestalten. Damit wird der Grundstein für ei
 n Leben mit Musik gelegt. Langzeitstudien bestätigen inzwischen den positiv
 en Einfluss von Musikerziehung auf die ganzheitliche Entwicklung des Kindes
  – auf die musikalische Begabung, das Sozialverhalten und das Lernen.</p><h
 3 class="timeslots-title">Wann findet dieser Kurs statt?</h3><p class="time
 slot"><a class="timeslot-link" href="https://www.derkreativraum.at/stundenp
 lan/spalte/mittwoch/">Mittwoch</a><br /><time class="timeslot-start" dateti
 me="09:00">9:00</time> - <time class="timeslot-end" datetime="09:50">9:50 f
 ür 1-2 Jahre</time></p><p class="timeslot"><span class="timeslot-subtitle">
 10:15 - 11:05 für Babys</span></p><p class="timeslot"><span class="timeslot
 -subtitle">11:30 - 12:20 für 1-2 Jahre</span></p><p class="timeslot"><time 
 class="timeslot-start" datetime="12:45">12:45</time> - <time class="timeslo
 t-end" datetime="13:35">13:35 </time><span class="timeslot-description">für
  Babys</span></p></div></div></div></div></div></section>
CONTACT:06643935509 oder office@derkreativraum.at
X-EXTRAINFO:[preis='9600'][anmeldung='true']
DTSTAMP:20260423T142834
DTSTART:20220504T081500
DTEND:20220504T090500
SEQUENCE:0
TRANSP:OPAQUE
END:VEVENT
END:VCALENDAR