BEGIN:VCALENDAR
VERSION:2.0
PRODID:-//jEvents 2.0 for Joomla//EN
CALSCALE:GREGORIAN
METHOD:PUBLISH
BEGIN:VEVENT
UID:0e3893b78b4743b128e549ab869811f0
CATEGORIES:7. Bezirk
CREATED:20220224T134259
SUMMARY:Musikgarten (3-18 Monate) im WirkRaum
LOCATION:1070 Wien\, Zieglergasse 66
DESCRIPTION:<p><em><strong>Herzlich Willkommen bei Musikgarten</strong></em>, im 7. Bez
 irk.</p><p>Wir singen, musizieren und bewegen uns tanzend mit unseren Tüche
 rn im Raum. Der Kniereiter begleitet uns jede Einheit. Der Musikgarten ist 
 der Jahreszeit angepasst - mit den passenden Thema sind wir nicht nur musik
 alisch aktiv, sondern wir sind 1x malerisch Kreativ und feiern das Fasching
 sfest &amp; das Frühlingsfest zum Osterhasenfest!</p><p>Wann:</p><p><strong
 >6x Dienstag, um 10:45-12:00</strong> (3-18 Monate)</p><p>Kostenbeitrag: Eu
 ro 108,-</p><p><strong>Dauer: 70min. </strong></p><p>(davon 35min. Musikgar
 ten und danach eine gemütliche Jausen-Austauschrunde)</p><p><strong>Bei Ver
 fügbarkeit, Einstieg jederzeit möglich!</strong></p><p>Habe ich Euer Intere
 sse geweckt?</p><p>Weiter Informationen und Anmeldung:</p><p><strong>Tel.Nr
 .: 0660 29 66 266</strong></p><p><strong><a href="mailto:termin@bauch-klang
 .at">termin@bauch-klang.at</a></strong></p><p><strong><a href="http://www.b
 auch-klang.at">www.bauch-klang.at</a></strong></p><p><strong> </strong></p>
 <p><strong>Weitere Musikgarten Kurse</strong></p><p>Dienstag, um 9:15-10:30
  (3-18 Monate)</p><p>Dienstag, um 10:45-12:00 (3-18 Monate)</p><p>Dienstag,
  um 15:15-16:30 (1-3 Jährige)</p><p>Donnerstag, um 9:15-10:30 (3-18 Monate)
 </p><p> </p><p> </p><p> </p>
CONTACT:termin@bauch-kang.at oder 0660 29 66 266
X-EXTRAINFO:[preis='10800'][anmeldung='true']
DTSTAMP:20260423T090408
DTSTART:20220301T094500
DTEND:20220301T110000
SEQUENCE:0
TRANSP:OPAQUE
END:VEVENT
END:VCALENDAR