BEGIN:VCALENDAR
VERSION:2.0
PRODID:-//jEvents 2.0 for Joomla//EN
CALSCALE:GREGORIAN
METHOD:PUBLISH
BEGIN:VEVENT
UID:5b81b31abfbbf2d4b1c586c55f2ee4a9
CATEGORIES:7. Bezirk
CREATED:20220225T125417
SUMMARY:BabyBauchTöne im WirkRaum
LOCATION:Verein WirkRaum\, Zieglergasse 66\, 1070 Wien
DESCRIPTION:Habt Ihr schon einmal von BabyBauchTöne gehört?\nNein? Singen in der Schwan
 gerschaft und Bindungsstärkend.\nHerzlich Willkommen bei BabyBauchTöne!\n5x
  Donnerstag am 03. März - 07. April 2022 um 10:45\nAuf das ungeborene Kind 
 wirkt die Stimme der Mutter anregend und zugleich beruhigend, vertraut.  Ab
 er auch auf die Mutter wirkt sich das Singen positiv aus - und festigt die 
 Beziehung zwischen der Mutter und dem Kind.\n"Bewusste Wahrnehmung, Zeit fü
 r Dich und deinem kleinen Wunder!"\nDie Mutter-Kind-Bindung beginnt viel fr
 üher, als man bisher angenommen hatte: Das Kind (er) kennt zum Beispiel den
  Geruch der Mutter bereits lange vor der Geburt. Auch Ihre Stimme und die d
 arin liegende verschiedenen Emotionen werden bereits vorher wahrgenommen, e
 rlernt und darauf entsprechend reagiert. \nGemeinsames Singen ist ein Ausdr
 uck von Freiheit und gibt uns Kraft, denn in dem Moment, in dem wir singen 
 (in Gruppen), fühlen wir uns stärker - fühlen wir uns aufgehoben.\nInhalt:\
 n- Freude am Singen, dem Tanz und der Musik\n- Verbesserung der Körperwahrn
 ehmung\n- Eltern-Kind-Bindung stärken\n- Lieder für die erste Zeit mit dem 
 Baby erlernen (Wiegen- und Streichellieder)\n- tiefen Atmung - Kurzatmigkei
 t verhindern\n- Tönen, den bevorstehenden Geburtsvorgang unterstützen lerne
 n\n- Zum Abschluss eine Entspannungsmeditation\n \nWo: Verein WirkRaum, Zie
 glergasse 66, 1070 Wien\nWann: 5x Donnerstag um 10:45-12:00 (03.03.-07.04.2
 022)\nDauer: 75min.\nKostenbeitrag: Euro 110,- \nBei Verfügbarkeit, Einstie
 g jederzeit möglich!\nInformation &amp; Anmeldung\nBarbara 0660 29 66 266\n
 termin@bauch-klang.at (mailto:termin@bauch-klang.at)\nwww.bauch-klang.at (h
 ttp://www.bauch-klang.at)\n
X-ALT-DESC;FMTTYPE=text/html:<p>Habt Ihr schon einmal von BabyBauchTöne gehört?</p><p>Nein? Singen in de
 r Schwangerschaft und Bindungsstärkend.</p><p><em><strong>Herzlich Willkomm
 en bei BabyBauchTöne!</strong></em></p><p><em><strong>5x Donnerstag am 03. 
 März - 07. April 2022 um 10:45</strong></em></p><p>Auf das ungeborene Kind 
 wirkt die Stimme der Mutter anregend und zugleich beruhigend, vertraut.  Ab
 er auch auf die Mutter wirkt sich das Singen positiv aus - und festigt die 
 Beziehung zwischen der Mutter und dem Kind.</p><p><em>"Bewusste Wahrnehmung
 , Zeit für Dich und deinem kleinen Wunder!"</em></p><p>Die Mutter-Kind-Bind
 ung beginnt viel früher, als man bisher angenommen hatte: Das Kind (er) ken
 nt zum Beispiel den Geruch der Mutter bereits lange vor der Geburt. Auch Ih
 re Stimme und die darin liegende verschiedenen Emotionen werden bereits vor
 her wahrgenommen, erlernt und darauf entsprechend reagiert. </p><p>Gemeinsa
 mes Singen ist ein Ausdruck von Freiheit und gibt uns Kraft, denn in dem Mo
 ment, in dem wir singen (in Gruppen), fühlen wir uns stärker - fühlen wir u
 ns aufgehoben.</p><p>Inhalt:</p><p><strong>- Freude am Singen, dem Tanz und
  der Musik</strong></p><p><strong>- Verbesserung der Körperwahrnehmung</str
 ong></p><p><strong>- Eltern-Kind-Bindung stärken</strong></p><p><strong>- L
 ieder für die erste Zeit mit dem Baby erlernen (Wiegen- und Streichellieder
 )</strong></p><p><strong>- tiefen Atmung - Kurzatmigkeit verhindern</strong
 ></p><p><strong>- Tönen, den bevorstehenden Geburtsvorgang unterstützen ler
 nen</strong></p><p><strong>- Zum Abschluss eine Entspannungsmeditation</str
 ong></p><p> </p><p><strong>Wo:</strong> Verein WirkRaum, Zieglergasse 66, 1
 070 Wien</p><p>Wann: <strong>5x Donnerstag um 10:45-12:00 (03.03.-07.04.202
 2)</strong></p><p>Dauer: 75min.</p><p>Kostenbeitrag: Euro 110,- </p><p><em>
 Bei Verfügbarkeit, Einstieg jederzeit möglich!</em></p><p><strong>Informati
 on &amp; Anmeldung</strong></p><p><strong>Barbara 0660 29 66 266</strong></
 p><p><a href="mailto:termin@bauch-klang.at">termin@bauch-klang.at</a></p><p
 ><a href="http://www.bauch-klang.at">www.bauch-klang.at</a></p>
CONTACT:0660 29 66 266 oder termin@bauch-klang.at
X-EXTRAINFO:[preis='11000'][anmeldung='true']
DTSTAMP:20260423T124856
DTSTART:20220310T094500
DTEND:20220310T110000
SEQUENCE:0
TRANSP:OPAQUE
END:VEVENT
END:VCALENDAR