BEGIN:VCALENDAR
VERSION:2.0
PRODID:-//jEvents 2.0 for Joomla//EN
CALSCALE:GREGORIAN
METHOD:PUBLISH
BEGIN:VEVENT
UID:c63b6a9cdcd1cc556bddbc00a014e434
CATEGORIES:1. Bezirk
CREATED:20220228T135947
SUMMARY:Babymassage und Babyyogakurs am Stephansplatz mit Karin Schranz-Klippl
LOCATION:1010 Wien\, Stephansplatz 4\, Stg.8\, neben "Babyshop"
DESCRIPTION:Babymassage- und Babyyogakurs mit Blick auf den Stephansdom!\nExklusive Zei
 t mit deinem Baby in der Kleingruppe (max. 5 Teilnehmer)\n4 Wochenkurs, Die
 nstag 10h-11h\n1.3., 8.3., 15.3., 22.3.2022\nIndische Massage, schwedische 
 Griffe, Kolikmassage und viel mehr!\n
X-ALT-DESC;FMTTYPE=text/html:<p>Babymassage- und Babyyogakurs mit Blick auf den Stephansdom!</p><p>Exklu
 sive Zeit mit deinem Baby in der Kleingruppe (max. 5 Teilnehmer)</p><p>4 Wo
 chenkurs, Dienstag 10h-11h</p><p>1.3., 8.3., 15.3., 22.3.2022</p><p>Indisch
 e Massage, schwedische Griffe, Kolikmassage und viel mehr!</p>
CONTACT:info@wunschtraummuschel.at
X-EXTRAINFO:[preis='13500'][anmeldung='true']
DTSTAMP:20260423T101246
DTSTART:20220301T090000
DTEND:20220301T100000
SEQUENCE:0
TRANSP:OPAQUE
END:VEVENT
END:VCALENDAR