BEGIN:VCALENDAR
VERSION:2.0
PRODID:-//jEvents 2.0 for Joomla//EN
CALSCALE:GREGORIAN
METHOD:PUBLISH
BEGIN:VEVENT
UID:50cb943696f9383e72fc895f4db19b35
CATEGORIES:2. Bezirk
CREATED:20220311T164026
SUMMARY:Kreativer Kindertanz in Tini's Kinderzimmer
LOCATION:Tini's Kinderzimmer\, Wolfgang-Schmälzlgasse 18\, 1020 Wien
DESCRIPTION:<p>Spaß - Lachen - Tanzen!<br />Jedes Kind besitzt eine natürliche Bewegung
 sfreude. Mit dieser Freude wollen wir zusammen auf Entdeckungsreise in die 
 Welt des Tanzes gehen.<br />Wir lernen unserer Fantasie in Tanz und Improvi
 sationsspielen freien Lauf zu lassen und schulen dabei ganz nebenbei Motori
 k, Körperkontrolle, Beweglichkeit, Musikalität, Kreativität und Kraft.<br /
 >Gemeinsam wagen wir uns an die ersten tänzerischen Grundbewegungsformen un
 d haben somit eine optimale Grundlage für jede Tanz- und Bewegungstechnik.<
 /p><p> </p><p>Für Kinder von 4 bis 6 Jahren</p><p> </p><p>Kursleitung: <a c
 lass="link1" href="https://www.tiniskinderzimmer.at/kontakt#A2EEF5E7-2267-4
 351-82D5-F5D8F0E845C7">Beatrix</a></p><p>Dienstag, 16:00 bis 16:50 Uhr</p><
 p>Kosten: 4 Einheiten 64€ </p><p>Geschwisterkind: 56€</p><p>Termine: 15. Mä
 rz, 22.März, 29. März, 5. April</p><p> </p><p>Der Einstieg in den Kurs ist 
 jederzeit möglich- sofern Platz ist. Es gilt der aliquote Kursbeitrag ab Ei
 nstiegsdatum.</p>
CONTACT:www.tiniskinderzimmer.at
X-EXTRAINFO:[preis='1600'][anmeldung='true']
DTSTAMP:20260423T190221
DTSTART:20220322T150000
DTEND:20220322T155000
SEQUENCE:0
TRANSP:OPAQUE
END:VEVENT
END:VCALENDAR