BEGIN:VCALENDAR
VERSION:2.0
PRODID:-//jEvents 2.0 for Joomla//EN
CALSCALE:GREGORIAN
METHOD:PUBLISH
BEGIN:VEVENT
UID:4c95365e9702bb9dfa6f03aea7973b1d
CATEGORIES:13. Bezirk
CREATED:20220404T184136
SUMMARY:NordicKANGA im Lainzer Tiergarten - mit Baby oder Babybauch
LOCATION:Lainzer Tiergarten\, Parkplatz Lainzer Tor\, Ende Hermesstraße\, 1130 Wien
DESCRIPTION:NordicKanga ist genau auf Deine Bedürfnisse als junge Mama und die Deines B
 abys abgestimmt: Du wirst sicher &amp; effektiv rundum fit und Dein Baby ku
 schelt mit Dir und genießt es, Deine Nähe zu spüren.\nAber auch in der beso
 nderen Zeit deiner Schwangerschaft ist NordicKanga wunderbar!\nBeim NordicK
 anga im wunderschönen Lainzer Tiergarten genießen wir gemeinsam mit unseren
  Babys die Bewegung an der frischen Luft. Ausdauertraining im Intervall mit
  Kräftigungsübungen sorgen für ein vollständiges Workout.\nAls Trageberater
 in ist es mir besonders wichtig, dass alle "Kangababys" beim Kangatraining®
  gesund getragen werden:\n\n - gut gestützt\n - in "Anhock-Spreiz-Haltung"\
 n - leicht gerundeten Rücken des Babys\n - vor optischer Reizüberflutung ge
 schützt\n - komfortabel für den TrägerWann kannst du starten?\n\nNordicKang
 a ist von der ersten bis zur letzten Woche deiner Schwangerschaft wunderbar
  - vorausgesetzt es besteht kein Sportverbot!\nSobald du den postnatalen gy
 näkologischen Check-Up nach der Entbindung erfolgreich bestanden hast (6-8 
 nach vaginaler bzw. 10-12 Wochen nach Kaiserschnitt-Geburt), bist du beim K
 angatraining® herzlich willkommen!\nUnverbindliches Schnuppertraining ist j
 ederzeit möglich (gratis für euch!) - melde dich hier an: http://www.kangat
 raining.at/index.php?name=trainerinfo&amp;sub=booking&amp;idtrainer=681\n\n
 Breitgefächertes Gratis-Leihtragehilfensortiment vorhanden!\nGRATIS-Leihstö
 cke können reserviert werden!\n \nps: hier mein aktueller Kursplan:\n\nMont
 ag 9:30 KangaMIX Outdoor mit Baby od. Babybauch Maxingpark/Schönbrunn 1130 
 Wien\nMontag 19:45 KangaBurn HIIT Soziales Zentrum 1230 Wien-Mauer Endresst
 raße 59c\nDienstag 9:30 KangaMIX Outdoor mit Baby od. Babybauch 1230 Wien-A
 ltErlaa Liesingbachradweg\nMittwoch 9:30 Kangatraining St. Josef Krankenhau
 s 1130 Wien\nMittwoch  19:00 PREKanga für Schwangere St. Josef Krankenhaus 
 1130 Wien\nDonnerstag 9:00 KangaBurn (mit oder ohne Kind) Pfarre Erlöserkir
 che 1230 Wien-Mauer\nDonnerstag 10:30 Kangatraining Pfarre Erlöserkirche 12
 30 Wien-Mauer\nFreitag 9:30 NordicKanga mit Baby oder Babybauch Lainzer Tie
 rgarten 1130 Wien\n \nFür weitere Infos/Anmeldung erreichst du mich gerne:\
 nbrigitta@kangatraining.at (mailto:brigitta@kangatraining.at)\nBrigitta Fri
 edl   0676 7091555\nAnmeldung Kanga Brigitta 1130 &amp; 1230 Wien\nFacebook
  Kangatraining &amp; Trageberatung Brigitta (https://www.facebook.com/Kanga
 training.Brigitta/)\nIch freue mich darauf, dein Baby und dich kennenzulern
 en und gemeinsam mit euch in herrlicher Naturkulisse trainieren zu dürfen!\
 nDeine Brigitta\n
X-ALT-DESC;FMTTYPE=text/html:<p><strong>NordicKanga</strong> ist genau auf Deine Bedürfnisse als junge M
 ama und die Deines Babys abgestimmt: Du wirst sicher &amp; effektiv rundum 
 fit und Dein Baby kuschelt mit Dir und genießt es, Deine Nähe zu spüren.<br
  />Aber auch in der besonderen Zeit deiner <strong>Schwangerschaft</strong>
  ist<strong> NordicKanga </strong>wunderbar!</p><p>Beim <strong>NordicKanga
 </strong> im wunderschönen Lainzer Tiergarten genießen wir gemeinsam mit un
 seren Babys die Bewegung an der frischen Luft. Ausdauertraining im Interval
 l mit Kräftigungsübungen sorgen für ein vollständiges Workout.</p><p>Als <s
 trong>Trageberaterin</strong> ist es mir besonders wichtig, dass alle "Kang
 ababys" beim Kangatraining<sup>®</sup> gesund getragen werden:</p><ul><li>g
 ut gestützt</li><li>in "Anhock-Spreiz-Haltung"</li><li>leicht gerundeten Rü
 cken des Babys</li><li>vor optischer Reizüberflutung geschützt</li><li>komf
 ortabel für den Träger</li></ul><p><strong>Wann kannst du starten?</strong>
 <br /><br />NordicKanga ist von der ersten bis zur letzten Woche deiner <st
 rong>Schwangerschaft</strong> wunderbar - vorausgesetzt es besteht kein Spo
 rtverbot!<br />Sobald du den <strong>postnatalen gynäkologischen Check-Up</
 strong> nach der Entbindung erfolgreich bestanden hast (6-8 nach vaginaler 
 bzw. 10-12 Wochen nach Kaiserschnitt-Geburt), bist du beim Kangatraining<su
 p>® </sup>herzlich willkommen!</p><p><strong>Unverbindliches Schnuppertrain
 ing ist jederzeit möglich (gratis für euch!)</strong> - melde dich hier an:
  <a title="Anmeldung Schnuppertraining" href="https://www.kangatraining.inf
 o/at_de/instructor/BrigittaFriedl/booking/681" target="_blank" rel="noopene
 r noreferrer">http://www.kangatraining.at/index.php?name=trainerinfo&amp;su
 b=booking&amp;idtrainer=681</a><br /><br />Breitgefächertes <strong>Gratis-
 Leihtragehilfensortiment vorhanden</strong>!<br /><strong>GRATIS-Leihstöcke
 </strong> können reserviert werden!</p><p> </p><p>ps: hier mein aktueller<s
 trong> Kursplan:</strong><br /><br /><strong><em>Montag</em></strong> 9:30 
 <strong>KangaMIX</strong> <strong>Outdoor mit Baby od. Babybauch</strong> M
 axingpark/Schönbrunn <strong>1130 Wien</strong></p><p><strong><em>Montag</e
 m> </strong>19:45 <strong>KangaBurn HIIT</strong> Soziales Zentrum <strong>
 1230 Wien-Mauer </strong>Endresstraße 59c</p><p><strong><em>Dienstag</em></
 strong> 9:30<strong> KangaMIX Outdoor mit Baby od. Babybauch</strong><stron
 g> 1230 Wien-AltErlaa </strong>Liesingbachradweg</p><p><strong><em>Mittwoch
 </em> </strong>9:30<strong> Kangatraining St. Josef Krankenhaus</strong><st
 rong> 1130 Wien</strong></p><p><strong><em>Mittwoch</em> <em> </em></strong
 >19:00<strong><em> </em>PREKanga für Schwangere St. Josef Krankenhaus 1130 
 Wien</strong></p><p><strong><em>Donnerstag</em></strong> 9:00<strong> Kanga
 Burn (mit oder ohne Kind)</strong> Pfarre Erlöserkirche<strong> 1230 Wien-M
 auer</strong></p><p><strong><em>Donnerstag</em></strong> 10:30<strong> Kang
 atraining </strong>Pfarre Erlöserkirche<strong> 1230 Wien-Mauer</strong></p
 ><p><strong><em>Freitag</em> </strong>9:30<strong> NordicKanga mit Baby ode
 r Babybauch</strong> Lainzer Tiergarten<strong> 1130 Wien</strong></p><p><s
 trong> </strong></p><p><strong>Für weitere Infos/Anmeldung erreichst du mic
 h gerne:</strong></p><p><strong><a href="mailto:brigitta@kangatraining.at">
 brigitta@kangatraining.at</a></strong></p><p><strong>Brigitta Friedl   0676
  7091555</strong></p><p><strong><a href="https://www.kangatraining.info/ins
 tructor/BrigittaFriedl/681">Anmeldung Kanga Brigitta 1130 &amp; 1230 Wien</
 a></strong></p><p><strong><a href="https://www.facebook.com/Kangatraining.B
 rigitta/">Facebook Kangatraining &amp; Trageberatung Brigitta</a></strong><
 /p><p><strong>Ich freue mich darauf, dein Baby und dich kennenzulernen und 
 gemeinsam mit euch in herrlicher Naturkulisse trainieren zu dürfen!</strong
 ><br /><strong>Deine Brigitta</strong></p>
CONTACT:https://www.kangatraining.info/instructor/BrigittaFriedl/681
X-EXTRAINFO:[preis='000'][anmeldung='true']
DTSTAMP:20260423T152652
DTSTART:20190621T073000
DTEND:20190621T093000
SEQUENCE:0
TRANSP:OPAQUE
END:VEVENT
END:VCALENDAR