BEGIN:VCALENDAR
VERSION:2.0
PRODID:-//jEvents 2.0 for Joomla//EN
CALSCALE:GREGORIAN
METHOD:PUBLISH
BEGIN:VEVENT
UID:6b7f15ac0bb7140dd67946846f4fb67f
CATEGORIES:3. Bezirk
CREATED:20220419T073104
SUMMARY:Austauschgruppe Schwangerentreff LieblingsMAMA
LOCATION:LieblingsMAMA Praxis\, Apostelgasse 29-31/1/9  1030 Wien
DESCRIPTION:Du bist schwanger und wünschst dir neue Kontakte &amp; Austausch mit andere
 n Bald-Mamis? \nDann bist du bei LieblingsMAMA genau richtig!\nIn gemütlich
 er Atmosphäre gibt es viel Raum für Fragen, Inputs, Tipps und alles was dic
 h momentan bewegt sowie wöchentlich wechselnde Themenschwerpukte zur Vorber
 eitung auf Geburt und frühe Elternschaft.\nÜber mehrere Wochen hinweg, begl
 eite ich euch einfühlsam durch eure Schwangerschaft. Ich als Mama und Famil
 ienberaterin lege großen Wert darauf, euch einen geschützten, intimen Rahme
 n zu schaffen, in dem all eure Sorgen, Fragen, Ängste und Vorfreuden Platz 
 finden.\n \nACHTUNG! Am 5.5. und 10.5. von 12:30-14:00 Uhr\n
X-ALT-DESC;FMTTYPE=text/html:<p class="" style="white-space: pre-wrap;">Du bist schwanger und wünschst d
 ir neue Kontakte &amp; Austausch mit anderen Bald-Mamis? <br />Dann bist du
  bei LieblingsMAMA genau richtig!</p><p class="" style="white-space: pre-wr
 ap;">In gemütlicher Atmosphäre gibt es viel Raum für Fragen, Inputs, Tipps 
 und alles was dich momentan bewegt sowie <strong>wöchentlich wechselnde The
 menschwerpukte zur Vorbereitung auf Geburt und frühe Elternschaft.</strong>
 </p><p class="" style="white-space: pre-wrap;">Über mehrere Wochen hinweg, 
 begleite ich euch einfühlsam durch eure Schwangerschaft. Ich als Mama und F
 amilienberaterin lege großen Wert darauf, euch einen geschützten, intimen R
 ahmen zu schaffen, in dem all eure Sorgen, Fragen, Ängste und Vorfreuden Pl
 atz finden.</p><p> </p><p>ACHTUNG! Am 5.5. und 10.5. von 12:30-14:00 Uhr</p
 >
CONTACT:Sabine Grasmuk-Siegl, MSc Familienberaterin, Psychologische Beraterin, https://www.lieblingsmama.at/spezialangebote
X-EXTRAINFO:[preis='14600'][anmeldung='true']
DTSTAMP:20260423T094020
DTSTART:20220426T100000
DTEND:20220426T113000
SEQUENCE:0
TRANSP:OPAQUE
END:VEVENT
END:VCALENDAR