BEGIN:VCALENDAR
VERSION:2.0
PRODID:-//jEvents 2.0 for Joomla//EN
CALSCALE:GREGORIAN
METHOD:PUBLISH
BEGIN:VEVENT
UID:d384c703159a3d12d011de5d900e9ba0
CATEGORIES:19. Bezirk
CREATED:20220427T101321
SUMMARY:Verspielte Stunde
LOCATION:Q19 raum Ida vom Spielringel
DESCRIPTION:<div class="frame frame-default frame-type-textpic frame-layout-0 frame-bac
 kground-none frame-no-backgroundimage frame-space-before-none frame-space-a
 fter-none"><header class="frame-header"><h2 class="element-header ">Verspie
 lte Stunde</h2><h4>für Babys von 6 Monaten - 1,5 Jahre (mit Begleitung)</h4
 ></header><div class="frame-container"><div class="frame-inner"><div class=
 "textpic textpic-right"><div class="textpic-item textpic-gallery"> </div><d
 iv class="textpic-item textpic-text"><p><span class="text-primary font-weig
 ht-bold">Start: </span> 25.05.2022</p><p><span class="text-primary font-wei
 ght-bold">Mit: </span><a href="https://spielringel.at/angebote/das-team/cla
 udia">Claudia</a></p><p><span class="text-primary font-weight-bold">Kurstag
 : </span> Mittwoch 13:30-14:30 im Raum Ida, Q19</p><p><span class="text-pri
 mary font-weight-bold">Termine: </span> 25.05., 01.06., 08.06., 15.06., 22.
 06.</p><p><span class="text-primary font-weight-bold">Kosten: </span> €68,-
  (5-Wochen Kurs)</p><p>Nach einem Begrüßungslied werden den Babys verschied
 ene Materialien angeboten. Passende Kniereiter und Fingerspiele runden das 
 Angebot ab.</p><p> </p></div></div></div></div></div>
CONTACT:www.spielringel.at
X-EXTRAINFO:[preis='6800'][anmeldung='true']
DTSTAMP:20260423T082224
DTSTART:20220615T113000
DTEND:20220615T123000
SEQUENCE:0
TRANSP:OPAQUE
END:VEVENT
END:VCALENDAR