BEGIN:VCALENDAR
VERSION:2.0
PRODID:-//jEvents 2.0 for Joomla//EN
CALSCALE:GREGORIAN
METHOD:PUBLISH
BEGIN:VEVENT
UID:4735bae9e94f75611f8f1fb7597aedf8
CATEGORIES:19. Bezirk
CREATED:20220427T101445
SUMMARY:Kleine Entdecker
LOCATION:Q19 Raum Ida vom Spielringel
DESCRIPTION:Kleine Entdeckerfür Kleinkinder von 2-3,5 Jahren (mit Begleitung) Start:  2
 5.05.2022\nMit: Claudia (https://spielringel.at/angebote/das-team/claudia)\
 nKurstag:  Mittwoch 15:00-16:00 im Raum Ida, Q19\nTermine:  25.05., 01.06.,
  08.06., 15.06., 22.06.\nKosten:  €70,- (5-Wochen Kurs)\nKinder sind neugie
 rig, offen für fast alles und wollen die Welt entdecken.\nIn dieser Spielgr
 uppe gibt es jede Woche etwas Neues für die Kleinen zu entdecken. Motorisch
 e Fähigkeiten werden gefördert und der Spaß kommt nicht zu kurz!\n  
X-ALT-DESC;FMTTYPE=text/html:<div class="frame frame-default frame-type-textpic frame-layout-0 frame-bac
 kground-none frame-no-backgroundimage frame-space-before-none frame-space-a
 fter-none"><header class="frame-header"><h2 class="element-header ">Kleine 
 Entdecker</h2><h4>für Kleinkinder von 2-3,5 Jahren (mit Begleitung)</h4></h
 eader><div class="frame-container"><div class="frame-inner"><div class="tex
 tpic textpic-right"><div class="textpic-item textpic-gallery"> </div><div c
 lass="textpic-item textpic-text"><p><span class="text-primary font-weight-b
 old">Start: </span> 25.05.2022</p><p><span class="text-primary font-weight-
 bold">Mit: </span><a href="https://spielringel.at/angebote/das-team/claudia
 ">Claudia</a></p><p><span class="text-primary font-weight-bold">Kurstag: </
 span> Mittwoch 15:00-16:00 im Raum Ida, Q19</p><p><span class="text-primary
  font-weight-bold">Termine: </span> 25.05., 01.06., 08.06., 15.06., 22.06.<
 /p><p><span class="text-primary font-weight-bold">Kosten: </span> €70,- (5-
 Wochen Kurs)</p><p>Kinder sind neugierig, offen für fast alles und wollen d
 ie Welt entdecken.</p><p>In dieser Spielgruppe gibt es jede Woche etwas Neu
 es für die Kleinen zu entdecken. Motorische Fähigkeiten werden gefördert un
 d der Spaß kommt nicht zu kurz!</p></div></div></div></div></div><div id="c
 813" class="frame frame-default frame-type-form_formframework frame-layout-
 0 frame-background-none frame-no-backgroundimage frame-space-before-none fr
 ame-space-after-none"><div class="frame-container"><div class="frame-inner"
 ><div class="form-container form-identifier-anmeldeformular-813"><form id="
 anmeldeformular-813" enctype="multipart/form-data" method="post" novalidate
 ="novalidate"><div> </div><input id="anmeldeformular-813-FH3qbByQmTziGKoM7w
 D" style="position: absolute; margin: 0 0 0 -999em;" tabindex="-1" autocomp
 lete="FH3qbByQmTziGKoM7wD" name="tx_form_formframework[anmeldeformular-813]
 [FH3qbByQmTziGKoM7wD]" type="text" /><div class="form-actions"> </div></for
 m></div></div></div></div>
CONTACT:www.spielringel.at
X-EXTRAINFO:[preis='7000'][anmeldung='true']
DTSTAMP:20260423T093620
DTSTART:20220622T130000
DTEND:20220622T140000
SEQUENCE:0
TRANSP:OPAQUE
END:VEVENT
END:VCALENDAR