BEGIN:VCALENDAR
VERSION:2.0
PRODID:-//jEvents 2.0 for Joomla//EN
CALSCALE:GREGORIAN
METHOD:PUBLISH
BEGIN:VEVENT
UID:d589506657715b776cd7c5e7f23b716b
CATEGORIES:23. Bezirk
CREATED:20220501T152745
SUMMARY:fitdankbaby PRE mit Claudia - Fit mit Babybauch
LOCATION:Better Tennis Center Alt Erlaa\,  Erlaaer Str. 56A\, 1230 Wien
DESCRIPTION:<p>Für Schwangere ab der 14. Schwangerschaftswoche</p><p> </p><p>Es erwarte
 t Dich ein effektives Ganzkörperworkout, abgestimmt auf die Bedürfnisse wer
 dender Mamas. Gezielte Übungen verbessern Kraft, Beweglichkeit und Koordina
 tion und beugen Schwangerschaftsbeschwerden vor. Wenn es dir gut geht, geht
  es deinem Baby gut. Für eine schöne Zeit mit Babybauch. </p><p> </p><p>Wir
  treffen uns immer Mittwochs um 17:00 Uhr im Better Tennis Center Alt Erlaa
 , <span class="w8qArf"> </span><span class="LrzXr">Erlaaer Str. 56A</span>,
  1230 Wien. </p><p>Ein Einstieg in den laufenden Kurs ist jederzeit möglich
 . Der ganze Kurs dauert 4 Wochen ab 20.04.2022. Der 4-Wochen-Kurs kostet EU
 R 52,00. </p><p> </p><p>Buche jetzt Deinen Kurs unter:</p><p><a href="http:
 //www.fitdankbaby.at/claudia.klinger">www.fitdankbaby.at/claudia.klinger</a
 > </p><p> </p><p>Verpasse keine News: </p><p><a href="http://www.facebook.c
 om/fitdankbabyClaudia">www.facebook.com/fitdankbabyClaudia</a> </p><p><br /
 >Bei Fragen oder wenn du Interesse an einer unverbindlichen <strong>Schnupp
 erstunde</strong> hast kannst Du mich gerne unter <a href="mailto:claudia.k
 linger@fitdankbaby.at">claudia.klinger@fitdankbaby.at</a> kontaktieren. </p
 ><p> </p><p>Ich freue mich darauf schon bald gemeinsam mit Dir zu trainiere
 n! </p>
CONTACT:Claudia Klinger - claudia.klinger@fitdankbaby.at
X-EXTRAINFO:[preis='1300'][anmeldung='true']
DTSTAMP:20260423T142826
DTSTART:20220518T150000
DTEND:20220518T160000
SEQUENCE:0
TRANSP:OPAQUE
END:VEVENT
END:VCALENDAR