BEGIN:VCALENDAR
VERSION:2.0
PRODID:-//jEvents 2.0 for Joomla//EN
CALSCALE:GREGORIAN
METHOD:PUBLISH
BEGIN:VEVENT
UID:073420728ef42f1df42ae2f952fb678e
CATEGORIES:23. Bezirk
CREATED:20220501T153741
SUMMARY:fitdankbaby mit Claudia - Fitness für Dich & Dein Baby
LOCATION:Better Tennis Center Alt Erlaa\,  Erlaaer Str. 56A
DESCRIPTION:Für Mamas mit Babys ab 3 Monaten\n \nDas erwartet Dich:\n\n - Fitnesskurs m
 it Deinem Baby\n - Effektives Ganzkörperworkout\n - Training in Kleingruppe
 n\n - Gemeinsame Zeit mit viel Spaß für Mama UND Baby\n - Dein Baby ist die
  gesamte Stunde eingebunden. \n - Kreative Babyspiele und -lieder, um dein 
 Baby aktiv in seiner Entwicklung zu unterstützenWir treffen uns immer Donne
 rstags um 9:15 Uhr im Better Tennis Center Alt Erlaa,  Erlaaer Str. 56A, 12
 30 Wien.\nEin Einstieg in den laufenden Kurs ist jederzeit möglich. Der gan
 ze Kurs dauert 4 Wochen ab 02.06.2022. Der 4-Wochen-Kurs kostet EUR 52,00. 
 \n \nBuche Deinen Kurs unter:\nwww.fitdankbaby.at/claudia.klinger (http://w
 ww.fitdankbaby.at/claudia.klinger) \n \nVerpasse keine News: \nwww.facebook
 .com/fitdankbabyClaudia (http://www.facebook.com/fitdankbabyClaudia) \nInst
 agram: @fitdankbaby_claudia\n\nBei Fragen oder wenn du Interesse an einer u
 nverbindlichen Schnupperstunde hast kannst Du mich gerne unter claudia.klin
 ger@fitdankbaby.at (mailto:claudia.klinger@fitdankbaby.at) kontaktieren. \n
  \nIch freue mich darauf schon bald gemeinsam mit Dir zu trainieren! \n
X-ALT-DESC;FMTTYPE=text/html:<p>Für Mamas mit Babys ab 3 Monaten</p><p> </p><p><span style="text-decorat
 ion: underline;">Das erwartet Dich:</span></p><ul><li>Fitnesskurs mit Deine
 m Baby</li><li>Effektives Ganzkörperworkout</li><li>Training in Kleingruppe
 n</li><li>Gemeinsame Zeit mit viel Spaß für Mama UND Baby</li><li>Dein Baby
  ist die gesamte Stunde eingebunden. </li><li>Kreative Babyspiele und -lied
 er, um dein Baby aktiv in seiner Entwicklung zu unterstützen</li></ul><p>Wi
 r treffen uns immer Donnerstags um 9:15 Uhr im Better Tennis Center Alt Erl
 aa, <span class="w8qArf"> </span><span class="LrzXr">Erlaaer Str. 56A</span
 >, 1230 Wien.</p><p>Ein Einstieg in den laufenden Kurs ist jederzeit möglic
 h. Der ganze Kurs dauert 4 Wochen ab 02.06.2022. Der 4-Wochen-Kurs kostet E
 UR 52,00. </p><p> </p><p><span style="text-decoration: underline;">Buche De
 inen Kurs unter:</span></p><p><a href="http://www.fitdankbaby.at/claudia.kl
 inger">www.fitdankbaby.at/claudia.klinger</a> </p><p> </p><p><span style="t
 ext-decoration: underline;">Verpasse keine News:</span> </p><p><a href="htt
 p://www.facebook.com/fitdankbabyClaudia">www.facebook.com/fitdankbabyClaudi
 a</a> </p><p>Instagram: @fitdankbaby_claudia</p><p><br />Bei Fragen oder we
 nn du Interesse an einer unverbindlichen <strong>Schnupperstunde</strong> h
 ast kannst Du mich gerne unter <a href="mailto:claudia.klinger@fitdankbaby.
 at">claudia.klinger@fitdankbaby.at</a> kontaktieren. </p><p> </p><p>Ich fre
 ue mich darauf schon bald gemeinsam mit Dir zu trainieren! </p>
CONTACT:Claudia Klinger - claudia.klinger@fitdankbaby.at
X-EXTRAINFO:[preis='1300'][anmeldung='true']
DTSTAMP:20260423T124858
DTSTART:20220616T071500
DTEND:20220616T083000
SEQUENCE:0
TRANSP:OPAQUE
END:VEVENT
END:VCALENDAR