BEGIN:VCALENDAR
VERSION:2.0
PRODID:-//jEvents 2.0 for Joomla//EN
CALSCALE:GREGORIAN
METHOD:PUBLISH
BEGIN:VEVENT
UID:b3904225ea01365d8a09a20e4dd249c8
CATEGORIES:1. Bezirk
CREATED:20220514T123047
SUMMARY:Babymassage und Babyyogakurs am Stephansplatz mit Karin Schranz-Klippl
LOCATION:Stephansplatz 4\, Stg.8\, 1.Stock
DESCRIPTION:Babymassage und Babyyogakurs mit Blick auf den Stephansdom!\n-dein Baby les
 en lernen, die nonverbale Kommunikation deines Babys verstehen\n-Schwedisch
 e und indische Massagetechniken\n-Kolikmassage\n-und noch viel mehr!\nKlein
 gruppe mit max.5 Teilnehmern\nFür alle Babys ab ca. 4 Wochen bis zum Krabbe
 lalter!\nTermine:\n7.Juni, 14.Juni, 21.Juni und 28.Juni von 10h-11h\n1010 W
 ien\nStephansplatz 4, Stg.8, 1.Stock (kein Lift)\n \n
X-ALT-DESC;FMTTYPE=text/html:<p>Babymassage und Babyyogakurs mit Blick auf den Stephansdom!</p><p>-dein 
 Baby lesen lernen, die nonverbale Kommunikation deines Babys verstehen</p><
 p>-Schwedische und indische Massagetechniken</p><p>-Kolikmassage</p><p>-und
  noch viel mehr!</p><p>Kleingruppe mit max.5 Teilnehmern</p><p>Für alle Bab
 ys ab ca. 4 Wochen bis zum Krabbelalter!</p><p>Termine:</p><p>7.Juni, 14.Ju
 ni, 21.Juni und 28.Juni von 10h-11h</p><p>1010 Wien</p><p>Stephansplatz 4, 
 Stg.8, 1.Stock (kein Lift)</p><p> </p>
CONTACT:info@wunschtraummuschel.at
X-EXTRAINFO:[preis='13500'][anmeldung='true']
DTSTAMP:20260423T173130
DTSTART:20220607T080000
DTEND:20220607T090000
SEQUENCE:0
TRANSP:OPAQUE
END:VEVENT
END:VCALENDAR