BEGIN:VCALENDAR
VERSION:2.0
PRODID:-//jEvents 2.0 for Joomla//EN
CALSCALE:GREGORIAN
METHOD:PUBLISH
BEGIN:VEVENT
UID:77144922ff7fe5217fb84623d08e6310
CATEGORIES:7. Bezirk
CREATED:20220517T094530
SUMMARY:THE MILKY WAY im Dschungel Wien - Theaterhaus für junges Publikum
LOCATION:Dschungel Wien - Theaterhaus für junges Publikum
DESCRIPTION:<div id="desc" class="fr-view description hyphenate"><p><span class="title 
 hyphenate">THE MILKY WAY</span></p><p><span class="group hyphenate">von <a 
 href="https://www.dschungelwien.at/pages/vrum-performing-arts-collective">V
 RUM Performing Arts Collective</a></span></p><p><br />Immersive Tanzinstall
 ation, 40 Min.<br />6–18 Monate</p><p><strong>Interaktives Spielen, Tanzen 
 und Entdecken für Babys und ihre Erwachsenen</strong></p><p>»The Milky Way«
  ist eine begeh-, bekrabbel-, erleb- und fühlbare Installation für die Alle
 rkleinsten und ihre erwachsenen Begleiter:innen: Objekte, Formen und Farben
  inspirieren das Publikum dazu, sich frei durch den Raum zu bewegen, umherz
 uwandern, verschiedene Perspektiven zu genießen, ihn zu erkunden, aktiv zu 
 sein oder sich in der weichen Umgebung zu entspannen. Jedes Objekt stimulie
 rt die Sinne auf eine andere Art und Weise.</p><p>»The Milky Way« lädt das 
 Publikum von 6 bis 18 Monaten ein, Teil eines immersiven, alle Sinne anspre
 chenden, künstlerischen Erlebnisses voller Farbe, Musik und Bewegung zu sei
 n. Die Erwachsenen sind angehalten, sich ebenso aktiv am Geschehen zu betei
 ligen, ihr Kind zu unterstützen, ihm zu folgen und die Erfahrungen mit ihm 
 zu teilen.</p></div><div id="cast" class="fr-view cast hyphenate"><p><stron
 g>Konzept, Entwicklung, Performance:</strong> Sanja Tropp Frühwald, Gat Goo
 dovitch, Till Frühwald<br /><strong>Musik:</strong> Oliver Stotz<br /><stro
 ng>Ausstattung: </strong>VRUM,<strong> </strong>Mael Blau<br /><strong>Auss
 tattungsassistenz: </strong>Camilla Smolders<br /><strong>Licht:</strong> C
 hristopher Corsmann<br /><strong>Produktionsleitung</strong>: Natalja Kreil
 </p><p><strong>Fotos: </strong>Alek Kawka</p><p> </p><p>https://www.dschung
 elwien.at/vorstellung/714</p></div>
CONTACT:tickets@dschungelwien.at
X-EXTRAINFO:[preis='1000'][anmeldung='false']
DTSTAMP:20260423T111458
DTSTART:20220521T080000
DTEND:20220521T090000
SEQUENCE:0
TRANSP:OPAQUE
END:VEVENT
END:VCALENDAR