BEGIN:VCALENDAR
VERSION:2.0
PRODID:-//jEvents 2.0 for Joomla//EN
CALSCALE:GREGORIAN
METHOD:PUBLISH
BEGIN:VEVENT
UID:7de6caf6a1157b8d7928a027e2d44fc0
CATEGORIES:3. Bezirk
CREATED:20220528T112335
SUMMARY:BABYMASSAGE Im Mothers Only Club
LOCATION:MOTHERS ONLY\, Haidingerstraße  17\, 1030 Wien 
DESCRIPTION:Babymassage im MOTHERS ONLY CLUB\n(max. 5 Teilnehmerinnen gemeinsam mit Bab
 y)\n60min, angenehme Kleingruppen\nHaut-zu-Haut-Kontakt ist wunderbar fürs 
 Baby.\nBabymassagen fördern die Bindung zwischen Eltern und Kind. Sie linde
 rt die Koliken und Verdauungsbeschwerden und hat einen positiven Einfluss a
 uf den Schlaf-Wach-Rhythmus. Viele Baby schlafen nach einer Babymassage auc
 h besser.\nIn meinen Massagekursen zeige ich euch Techniken und Griffe die 
 ihr ganz einfach an eurem Baby anwenden könnt.\nPreis 35,- (findet ab 2 Tei
 lnehmerinnen statt, inklusive naturreines Massageöl für Babys)\n ? ? ? ? ?\
 nWas ist das Mothers Only?\nEgal ob Netzwerken, lesen, trainieren, arbeiten
  oder bei einer Yogastunde entspannen. All das findest du unter einem Dach 
 im MO während dein Baby liebevoll betreut wird.\nBuche Yogalehrerin Julia i
 m Slot 10-12:00 jeden FREITAG mit verschiedenen Angeboten: Babymassage, Mam
 a Baby Yoga, Yoga Einzelstunde, Blanance der weiblichen Hormone\nNährere In
 fos dazu unter mo(ad)mothers-only.at\n \n
X-ALT-DESC;FMTTYPE=text/html:<p><strong>Babymassage im MOTHERS ONLY CLUB</strong></p><p>(max. 5 Teilnehm
 erinnen gemeinsam mit Baby)</p><p>60min, <strong>angenehme Kleingruppen</st
 rong></p><p>Haut-zu-Haut-Kontakt ist wunderbar fürs Baby.</p><p>Babymassage
 n fördern die Bindung zwischen Eltern und Kind. Sie lindert die Koliken und
  Verdauungsbeschwerden und hat einen positiven Einfluss auf den Schlaf-Wach
 -Rhythmus. Viele Baby schlafen nach einer Babymassage auch besser.</p><p>In
  meinen Massagekursen zeige ich euch Techniken und Griffe die ihr ganz einf
 ach an eurem Baby anwenden könnt.</p><p>Preis 35,<strong>-</strong> <strong
 >(</strong>findet ab 2 Teilnehmerinnen statt, inklusive naturreines Massage
 öl für Babys)</p><p> ? ? ? ? ?</p><p><strong>Was ist das Mothers Only?</str
 ong></p><p>Egal ob Netzwerken, lesen, trainieren, arbeiten oder bei einer Y
 ogastunde entspannen. All das findest du unter einem Dach im MO während dei
 n Baby liebevoll betreut wird.</p><p>Buche Yogalehrerin Julia <strong>im Sl
 ot 10-12:00 jeden FREITAG </strong>mit verschiedenen Angeboten: Babymassage
 , Mama Baby Yoga, Yoga Einzelstunde, Blanance der weiblichen Hormone</p><p>
 Nährere Infos dazu unter mo(ad)mothers-only.at</p><p><strong> </strong></p>
CONTACT:mo(ad)mothers-only.at
X-EXTRAINFO:[preis='3500'][anmeldung='true']
DTSTAMP:20260423T215907
DTSTART:20220812T080000
DTEND:20220812T090000
SEQUENCE:0
TRANSP:OPAQUE
END:VEVENT
END:VCALENDAR