BEGIN:VCALENDAR
VERSION:2.0
PRODID:-//jEvents 2.0 for Joomla//EN
CALSCALE:GREGORIAN
METHOD:PUBLISH
BEGIN:VEVENT
UID:09f7f02b4a61e424348dbd2f003dd3a7
CATEGORIES:3. Bezirk
CREATED:20220528T113918
SUMMARY:MAMA BABY YOGA im Mothers Only Club
LOCATION:MOTHERS ONLY\, Haidingerstraße  17\, 1030 Wien 
DESCRIPTION:Mama Baby Yoga im Mothers Only Club\n(max. 5 Teilnehmerinnen gemeinsam mit 
 Baby)\nangenehme Kleingruppen !\nMit viel Spaß für Mamas und Babys nach der
  Geburt ab der 6ten Woche.\ndavor in Absprache mit Gynäkologin, Gynäkologe 
 oder Hebamme\nYoga-Übungen sind für Dich ein sanfter Weg um nach der Geburt
  wieder ein gutes Körpergefühl zu entwickeln. Im Vordergrund der Rückbildun
 gsgymnastik, bei dieser Yoga-Stunde gemeinsam mit deinem Baby, steht die Be
 wegung für die Eltern.\nSchöpfe neue Kraft und Energie. Genieße die Auszeit
  mit dir und deinem Baby.\nBitte bringe eine Decke für dein Baby mit und fa
 lls vorhanden auch eine Yogamatte für dich.\nPreis 20,-(findet ab 2 Teilneh
 merinnen statt)\n \nWas ist das Mothers Only?\nEgal ob Netzwerken, lesen, t
 rainieren, arbeiten oder bei einer Yogastunde oder Beautybehandlung entspan
 nen. All das findest du unter einem Dach im MO während dein Baby liebevoll 
 betreut wird.\nBuche Yogalehrerin Julia im Slot 10-12:00 jeden MONTAG und F
 REITAG mit verschiedenen Angeboten: Babymassage, Mama Baby Yoga, Yoga Einze
 lstunde, Balance der weiblichen Hormone\nNährere Infos zur Mitgliedschaft: 
 mo@mothers-only.at\n  \n
X-ALT-DESC;FMTTYPE=text/html:<table class="contentpaneopen" style="height: 616px;" border="0" width="548
 "><tbody><tr align="left" valign="top"><td style="width: 538px;" colspan="4
 "><div class="eventContent"><p><strong>Mama Baby Yoga im Mothers Only Club<
 /strong></p><p>(max. 5 Teilnehmerinnen gemeinsam mit Baby)</p><p><b>angeneh
 me Kleingruppen !</b></p><p>Mit viel Spaß für Mamas und Babys nach der Gebu
 rt ab der 6ten Woche.</p><p>davor in Absprache mit Gynäkologin, Gynäkologe 
 oder Hebamme</p><p>Yoga-Übungen sind für Dich ein sanfter Weg um nach der G
 eburt wieder ein gutes Körpergefühl zu entwickeln. Im Vordergrund der Rückb
 ildungsgymnastik, bei dieser Yoga-Stunde gemeinsam mit deinem Baby, steht d
 ie Bewegung für die Eltern.</p><p>Schöpfe neue Kraft und Energie. Genieße d
 ie Auszeit mit dir und deinem Baby.</p><p>Bitte bringe eine Decke für dein 
 Baby mit und falls vorhanden auch eine Yogamatte für dich.</p><p>Preis 20,-
 <strong>(</strong>findet ab 2 Teilnehmerinnen statt)</p><p> </p><p><strong>
 Was ist das Mothers Only?</strong></p><p>Egal ob Netzwerken, lesen, trainie
 ren, arbeiten oder bei einer Yogastunde oder Beautybehandlung entspannen. A
 ll das findest du unter einem Dach im MO während dein Baby liebevoll betreu
 t wird.</p><p>Buche Yogalehrerin Julia <strong>im Slot 10-12:00 jeden MONTA
 G und FREITAG </strong>mit verschiedenen Angeboten: Babymassage, Mama Baby 
 Yoga, Yoga Einzelstunde, Balance der weiblichen Hormone</p><p>Nährere Infos
  zur Mitgliedschaft: mo@mothers-only.at</p></div></td></tr><tr><td class="e
 v_detail" style="width: 538px;" colspan="4" align="left" valign="top"> </td
 ></tr></tbody></table><p> </p>
CONTACT:mo@mothers-only.at
X-EXTRAINFO:[preis='2000'][anmeldung='true']
DTSTAMP:20260423T215906
DTSTART:20220919T080000
DTEND:20220919T090000
SEQUENCE:0
TRANSP:OPAQUE
END:VEVENT
END:VCALENDAR