BEGIN:VCALENDAR
VERSION:2.0
PRODID:-//jEvents 2.0 for Joomla//EN
CALSCALE:GREGORIAN
METHOD:PUBLISH
BEGIN:VEVENT
UID:831ebf8c228d0d5a5c5310ccfc416285
CATEGORIES:19. Bezirk
CREATED:20220530T104316
SUMMARY:Musikgarten für Babys
LOCATION:Raum Ida im Q19
DESCRIPTION:Musikgarten Baby mit MartinaBabys 0-18 MonateEs gibt keine wichtigere Zeit 
 für die Entwicklung eines Kindes als die ersten Lebensjahre, keinen wichtig
 eren Platz als sein Zuhause und keinen wichtigeren Menschen als seine Bezug
 sperson. Der Musikgarten für Babys lädt Babys bis 18 Monaten und deren Elte
 rn zum musikalischen Spiel ein. Durch gemeinsames Singen, Musizieren, Beweg
 en und Musikhören können die Kinder ihre angeborene musikalische Sprache en
 tdecken und Freude daran finden. Langzeitstudien bestätigen inzwischen den 
 positiven Einfluss von musikalischer Erziehung auf die ganzheitliche Entwic
 klung des Kindes: auf die musikalische Begabung, die soziale Kompetenz und 
 das Lernen in vielerlei Hinsicht.\nTermine:  02.06., 09.06., 23.06., 30.06.
 \n
X-ALT-DESC;FMTTYPE=text/html:<header class="frame-header"><h2 class="element-header ">Musikgarten Baby m
 it Martina</h2><h4>Babys 0-18 Monate</h4><p>Es gibt keine wichtigere Zeit f
 ür die Entwicklung eines Kindes als die ersten Lebensjahre, keinen wichtige
 ren Platz als sein Zuhause und keinen wichtigeren Menschen als seine Bezugs
 person. Der Musikgarten für Babys lädt Babys bis 18 Monaten und deren Elter
 n zum musikalischen Spiel ein. Durch gemeinsames Singen, Musizieren, Bewege
 n und Musikhören können die Kinder ihre angeborene musikalische Sprache ent
 decken und Freude daran finden. Langzeitstudien bestätigen inzwischen den p
 ositiven Einfluss von musikalischer Erziehung auf die ganzheitliche Entwick
 lung des Kindes: auf die musikalische Begabung, die soziale Kompetenz und d
 as Lernen in vielerlei Hinsicht.</p><p><span class="text-primary font-weigh
 t-bold">Termine: </span> 02.06., 09.06., 23.06., 30.06.</p></header>
CONTACT:www.spielringel.at
X-EXTRAINFO:[preis='5500'][anmeldung='true']
DTSTAMP:20260423T093955
DTSTART:20220602T103000
DTEND:20220602T111500
SEQUENCE:0
TRANSP:OPAQUE
END:VEVENT
END:VCALENDAR