BEGIN:VCALENDAR
VERSION:2.0
PRODID:-//jEvents 2.0 for Joomla//EN
CALSCALE:GREGORIAN
METHOD:PUBLISH
BEGIN:VEVENT
UID:64272ff8e22401fd0f78c6d5f6c57fc5
CATEGORIES:19. Bezirk
CREATED:20220530T104947
SUMMARY:Musikgarten 1 
LOCATION:Raum Ida im Q19
DESCRIPTION:<header class="frame-header"><h2 class="element-header ">Musikgarten 1 mit 
 Martina</h2><h4>18 Monate - 4 Jahre</h4></header><p>Wenn Kinder musizieren,
  macht das einen bedeutenden Unterschied im Leben aus. Denn Musik verbesser
 t die gesamte Entwicklung des Kindes. Musik hilft bei Lernschwierigkeiten. 
 Musik erhöht die Gehirnleistung. Musik ist aktiv und macht Spaß. Und außerd
 em ist gemeinsames Musizieren ein ideales Mittel für Familien, um „zusammen
 zuwachsen.“</p><p>Musikgarten 1 will Eltern zum spielerischen Musizieren mi
 t Kindern anregen, die so die musikalische Veranlagung ihrer Kinder im Alte
 r von 18 Monaten bis vier Jahren weiterentwickeln wollen. Kleinkinder brauc
 hen positive Erfahrungen, Zeit und Wiederholung, um erfolgreich zu lernen. 
 Musikgarten will diese Erlebnisse in der Musikstunde ermöglichen und erreic
 hen, dass Musik ein täglicher Bestandteil des Familienlebens wird.</p><p><s
 pan class="text-primary font-weight-bold">Termine: </span> 02.06., 09.06., 
 23.06., 30.06.</p>
CONTACT:www.spielringel.at
X-EXTRAINFO:[preis='5500'][anmeldung='true']
DTSTAMP:20260423T082154
DTSTART:20220602T123000
DTEND:20220602T131500
SEQUENCE:0
TRANSP:OPAQUE
END:VEVENT
END:VCALENDAR