BEGIN:VCALENDAR
VERSION:2.0
PRODID:-//jEvents 2.0 for Joomla//EN
CALSCALE:GREGORIAN
METHOD:PUBLISH
BEGIN:VEVENT
UID:254d9c3a1efb459e1b0facd0b77bb355
CATEGORIES:19. Bezirk
CREATED:20220530T105231
SUMMARY:Musikgarten 2 
LOCATION:Raum Ida im Q19
DESCRIPTION:<p><strong>Der musikalische Jahreskreis</strong> lädt Kinder im Alter von d
 rei bis fünf Jahren und deren Eltern zum spielerischen Musizieren und somit
  zur Weiterentwicklung ihrer musikalischen Veranlagung ein. Durch die Einfü
 hrung von Musik als Schlüsselelement werden alle Aspekte des Lernens verstä
 rkt. Die Vernetzung von Musik, Bewegung und Sprache führt zu deutlichen Vor
 teilen in der Entwicklung des Kindes – sowohl im kognitiven als auch psycho
 logischen Bereich. Im Mittelpunkt jeder Musikgartenstunde stehen das Gruppe
 nerlebnis, rhythmische und melodische Echospiele, Lieder, Tänze und der Ein
 satz von Instrumenten.</p><p><span class="text-primary font-weight-bold">Te
 rmine: </span> 02.06., 09.06., 23.06., 30.06.</p>
CONTACT:www.spielringel.at
X-EXTRAINFO:[preis='5500'][anmeldung='true']
DTSTAMP:20260423T082047
DTSTART:20220630T133000
DTEND:20220630T141500
SEQUENCE:0
TRANSP:OPAQUE
END:VEVENT
END:VCALENDAR