BEGIN:VCALENDAR
VERSION:2.0
PRODID:-//jEvents 2.0 for Joomla//EN
CALSCALE:GREGORIAN
METHOD:PUBLISH
BEGIN:VEVENT
UID:a0a07573a694a568b27358275a67fef8
CATEGORIES:6. Bezirk
CREATED:20220530T211825
SUMMARY:Baby-Atelier
LOCATION:6.\, Sandwirtgasse 13/12
DESCRIPTION:<h1>Biolino Baby-Atelier</h1><h2>Für Kinder ab dem Sitzalter bis 2,5 Jahre<
 /h2><p><strong>Gruppe 1</strong>: 09.30 - 10.30 Uhr<br /> <strong>Gruppe 2<
 /strong>: 11.00 - 12.00 Uhr</p><p><strong>Gruppe 3</strong>: 14.30 - 15.30 
 Uhr</p><p><strong>Spielgruppe mit dem Schwerpunkt haptische Sinnesschulung<
 /strong></p><p>- Experimentieren mit Farben, Konsistenzen und unterschiedli
 chsten Materialien</p><p>Die kleinen Künstlerinnen und Künstler können im B
 iolino Baby-Atelier nach Herzenslust mit selbst hergestellten Bio-Farben ma
 tschen und gatschen, ohne dass Mama oder Papa nachher aufräumen müssen. Übe
 r das ganze Semester verteilt führen wir immer wieder neues Erlebnismateria
 l in die Gruppe ein.<br /> <br /> Klebrig, matschig, bröselig, kratzig: San
 d, Erde, Getreidekörner, Holz und viele andere haptische Anregungen warten 
 auf experimentierfreudige Entdecker*innen. Die Kinder können nach Herzenslu
 st die Bio-Farben und Materialien mischen und dabei mit allen Sinnen erlebe
 n, wie sie ihre Eigenschaften verändern.</p><p> </p><h2>Einstieg jederzeit 
 möglich!</h2><h2>Flexibel mit der Biolino Blockkarte: www.biolino.at/Blockk
 arte</h2><p>weitere Infos unter: <a href="https://www.biolino.at/spielgrupp
 en/baby-atelier/">Baby-Atelier</a></p><p> </p><p><strong>Sommerspaß 2022:</
 strong></p><p><strong>Juli  2022</strong>  6., 13., 20. und 27.7</p><p><str
 ong>August 2022</strong>  3., 10. 08.</p><p> </p><p>Wir freuen uns auf euch
 !</p><p>Martina und das Biolino Team</p><p> </p><p> </p><p><a href="http://
 www.biolino.at">www.biolino.at</a> <a href="mailto:martina.novak@biolino.at
 ">martina.novak@biolino.at</a></p><p> 0677 628 929 70</p><p>Sandwirtgasse 1
 3/12</p><p>1060 Wien</p>
CONTACT:martina.novak@biolino.at, 067762892970
X-EXTRAINFO:[preis='2000'][anmeldung='true']
DTSTAMP:20260423T171710
DTSTART:20220727T123000
DTEND:20220727T133000
SEQUENCE:0
TRANSP:OPAQUE
END:VEVENT
END:VCALENDAR