BEGIN:VCALENDAR
VERSION:2.0
PRODID:-//jEvents 2.0 for Joomla//EN
CALSCALE:GREGORIAN
METHOD:PUBLISH
BEGIN:VEVENT
UID:705cdeff5c790f76f062f7fa404dd40b
CATEGORIES:6. Bezirk
CREATED:20220530T212256
SUMMARY:Baby-Cafe
LOCATION:6.\, Sandwirtgasse 13/12
DESCRIPTION:Baby-CaféKaffeehaus-Flair mit KinderspielzeugBei richtig gutem Fair-Trade-K
 affee und leckerem selbstgemachten Bio-Gugelhupf kannst du dich entspannt z
 urücklehnen, deinem Kind beim Spielen in unseren übersichtlichen, kindersic
 heren Räumlichkeiten zusehen und mit anderen Mamas und Papas plaudern.\nWir
  laden dich und dein Kind montags und freitags in unser Biolino Baby-Café (
 https://www.biolino.at/baby-cafe/) ein. Bei biologischem Fair-Trade Kaffee,
  auf Wunsch auch koffeinfrei oder mit Pflanzenmilch, leckerem Bio-Kuchen un
 d österreichischen Bio-Fruchtsäften lässt es sich besonders gut plaudern un
 d spielen. Wir achten bei der Auswahl unserer Holzspielsachen darauf, dass 
 sie frei von Schadstoffen sind und nutzen Bio-Bambus Geschirr von Biobu.\n 
 \nWann: Montag und Freitag\nUhrzeit:\n9.00 - 12.00 Uhr am Montag\n9.00 – 13
 .30 Uhr am Freitag\nWo: Biolino Institut, Sandwirtgasse 13, 1060 Wien\nKost
 en: € 12,- Eintritt inkl. Bio-Kaffee (oder Bio-Tee, Bio-Kakao, Bio-Saft) un
 d Bio-Gugelhupf (oder Bio-Obst) und Spielebeitrag\nNur Barzahlung!\n \nTerm
 ine – Sommerspaß 2022\nJuli: 4., 11. 18. 25.07\nAugust: 1., 8.08\nBitte bea
 chte unsere Corona-Hygienemaßnahmen (https://www.biolino.at/home/hygienemaß
 nahmen/).\nEs gibt Platz für 6-8 Kinderwägen. Bei gutem Wetter kannst du au
 ch im geschützten Innenhof parken. Wenn es dir möglich ist, komm gerne mit 
 deiner Tragehilfe - so haben wir alle mehr Platz zum Wohlfühlen.\nWeitere I
 nfos findest du hier: https://www.biolino.at/baby-cafe/ (https://www.biolin
 o.at/baby-cafe/)  \n \nSchau vorbei zum Spielen und Plaudern.\nIch freue mi
 ch auf dich!\nAlles Liebe,\nMartina\n
X-ALT-DESC;FMTTYPE=text/html:<h1>Baby-Café</h1><h2>Kaffeehaus-Flair mit Kinderspielzeug</h2><p><strong>B
 ei richtig gutem Fair-Trade-Kaffee und leckerem selbstgemachten Bio-Gugelhu
 pf kannst du dich entspannt zurücklehnen, deinem Kind beim Spielen in unser
 en übersichtlichen, kindersicheren Räumlichkeiten zusehen und mit anderen M
 amas und Papas plaudern.</strong></p><p>Wir laden dich und dein Kind montag
 s und freitags in unser <a href="https://www.biolino.at/baby-cafe/">Biolino
  Baby-Café</a> ein. Bei biologischem Fair-Trade Kaffee, auf Wunsch auch kof
 feinfrei oder mit Pflanzenmilch, leckerem Bio-Kuchen und österreichischen B
 io-Fruchtsäften lässt es sich besonders gut plaudern und spielen. Wir achte
 n bei der Auswahl unserer Holzspielsachen darauf, dass sie frei von Schadst
 offen sind und nutzen Bio-Bambus Geschirr von Biobu.</p><p> </p><p><strong>
 Wann</strong>: Montag und Freitag</p><p><strong>Uhrzeit</strong>:</p><p>9.0
 0 - 12.00 Uhr am Montag</p><p>9.00 – 13.30 Uhr am Freitag</p><p><strong>Wo<
 /strong>: Biolino Institut, Sandwirtgasse 13, 1060 Wien</p><p><strong>Koste
 n</strong>: € 12,- Eintritt inkl. Bio-Kaffee (oder Bio-Tee, Bio-Kakao, Bio-
 Saft) und Bio-Gugelhupf (oder Bio-Obst) und Spielebeitrag</p><p>Nur Barzahl
 ung!</p><p> </p><p><strong>Termine – Sommerspaß 2022</strong></p><p>Juli: 4
 ., 11. 18. 25.07</p><p>August: 1., 8.08</p><p>Bitte beachte unsere Corona-<
 a href="https://www.biolino.at/home/hygienemaßnahmen/">Hygienemaßnahmen</a>
 .</p><p>Es gibt Platz für <strong>6-8 Kinderwägen</strong>. Bei gutem Wette
 r kannst du auch im geschützten Innenhof parken. Wenn es dir möglich ist, k
 omm gerne mit deiner Tragehilfe - so haben wir alle mehr Platz zum Wohlfühl
 en.</p><p>Weitere Infos findest du hier: <a href="https://www.biolino.at/ba
 by-cafe/">https://www.biolino.at/baby-cafe/</a>  </p><p> </p><p>Schau vorbe
 i zum Spielen und Plaudern.</p><p>Ich freue mich auf dich!</p><p>Alles Lieb
 e,</p><p>Martina</p>
CONTACT:martina.novak@biolino.at, 067762892970
X-EXTRAINFO:[preis='1200'][anmeldung='true']
DTSTAMP:20260423T155124
DTSTART:20220725T070000
DTEND:20220725T100000
SEQUENCE:0
TRANSP:OPAQUE
END:VEVENT
END:VCALENDAR