BEGIN:VCALENDAR
VERSION:2.0
PRODID:-//jEvents 2.0 for Joomla//EN
CALSCALE:GREGORIAN
METHOD:PUBLISH
BEGIN:VEVENT
UID:a8b11d6054172d4078deb00504240dea
CATEGORIES:6. Bezirk
CREATED:20220530T212828
SUMMARY:Bewegungswelt
LOCATION:6.\, Sandwirtgasse 13/12
DESCRIPTION:Spielgruppe Bewegungswelt (https://www.biolino.at/spielgruppen/bewegungswel
 t/)Für Kinder von 8 bis 18 Monaten \nSpielgruppe mit Bewegungsschwerpunkt\n
 - Kletterbogen\n- Kriechtunnel\n- Bewegungs-Landschaften\n- Ballspiele\n- S
 ing- und Tanzspiele\nDie Bewegungswelt  ist für Kinder von 8 -18 Monate.\nW
 ir krabbeln, kuscheln, singen, springen, kriechen und tanzen – und haben ge
 meinsam jede Menge Spaß. So stärken wir Körpergefühl, Grobmotorik und die L
 ust, uns zu bewegen.\nZu Beginn starten wir gemeinsam mit einigen Bewegungs
 liedern. Dann bauen wir eine bunte Bewegungslandschaft auf. Dieses bietet u
 nterschiedlichste Bewegungsmöglichkeiten und Bewegungserfahrungen. Deinem K
 ind wird dadurch großräumige Bewegungserfahrungen ermöglicht.\nBeim Kletter
 n, Rutschen, Rollen, Krabbeln, Balancieren, Springen und vielem mehr hat de
 in Kinder die Chance für eigenständige Entscheidungen und lernen so seine/i
 hre Fähigkeiten einzuschätzen und zu erweitern.\n Die Bewegungslandschaft g
 reift Anregungen aus der Natur auf und lässt sie in  die Bewegungsförderung
  einfließen.\n \nEinstieg jederzeit möglich!Flexibel mit der Biolino Blockk
 arte: www.biolino.at/Blockkarteweitere Infos unter: https://www.biolino.at/
 spielgruppen/bewegungswelt/ (https://www.biolino.at/spielgruppen/bewegungsw
 elt/)\n \nSommerspaß 2022:\nJuli  2022  5., 12., 19. 26.07\nAugust 2022  2.
 , 9. August\n \nWir freuen uns auf euch!\nMartina und das Biolino Team\n \n
  \nwww.biolino.at (http://www.biolino.at) martina.novak@biolino.at (mailto:
 martina.novak@biolino.at)\n 0677 628 929 70\nSandwirtgasse 13/12\n1060 Wien
 \n
X-ALT-DESC;FMTTYPE=text/html:<h2><a href="https://www.biolino.at/spielgruppen/bewegungswelt/">Spielgrupp
 e Bewegungswelt</a></h2><h3>Für Kinder von 8 bis 18 Monaten</h3><p> </p><p>
 <strong>Spielgruppe mit Bewegungsschwerpunkt</strong></p><p>- Kletterbogen<
 /p><p>- Kriechtunnel</p><p>- Bewegungs-Landschaften</p><p>- Ballspiele</p><
 p>- Sing- und Tanzspiele</p><p>Die <strong>Bewegungswelt</strong>  ist für 
 Kinder von <strong>8 -18 Monate.</strong></p><p>Wir krabbeln, kuscheln, sin
 gen, springen, kriechen und tanzen – und haben gemeinsam jede Menge Spaß. S
 o stärken wir Körpergefühl, Grobmotorik und die Lust, uns zu bewegen.</p><p
 >Zu Beginn starten wir gemeinsam mit einigen Bewegungsliedern. Dann bauen w
 ir eine bunte Bewegungslandschaft auf. Dieses bietet unterschiedlichste Bew
 egungsmöglichkeiten und Bewegungserfahrungen. Deinem Kind wird dadurch groß
 räumige Bewegungserfahrungen ermöglicht.</p><p>Beim Klettern, Rutschen, Rol
 len, Krabbeln, Balancieren, Springen und vielem mehr hat dein Kinder die Ch
 ance für eigenständige Entscheidungen und lernen so seine/ihre Fähigkeiten 
 einzuschätzen und zu erweitern.<br /> Die Bewegungslandschaft greift Anregu
 ngen aus der Natur auf und lässt sie in  die Bewegungsförderung einfließen.
 </p><p> </p><h2>Einstieg jederzeit möglich!</h2><h2>Flexibel mit der Biolin
 o Blockkarte: www.biolino.at/Blockkarte</h2><p>weitere Infos unter: <a href
 ="https://www.biolino.at/spielgruppen/bewegungswelt/">https://www.biolino.a
 t/spielgruppen/bewegungswelt/</a></p><p> </p><p><strong>Sommerspaß 2022:</s
 trong></p><p><strong>Juli  2022</strong>  5., 12., 19. 26.07</p><p><strong>
 August 2022</strong>  2., 9. August</p><p> </p><p>Wir freuen uns auf euch!<
 /p><p>Martina und das Biolino Team</p><p> </p><p> </p><p><a href="http://ww
 w.biolino.at">www.biolino.at</a> <a href="mailto:martina.novak@biolino.at">
 martina.novak@biolino.at</a></p><p> 0677 628 929 70</p><p>Sandwirtgasse 13/
 12</p><p>1060 Wien</p>
CONTACT:martina.novak@biolino.at, 067762892970
X-EXTRAINFO:[preis='2000'][anmeldung='true']
DTSTAMP:20260423T155042
DTSTART:20220809T073000
DTEND:20220809T083000
SEQUENCE:0
TRANSP:OPAQUE
END:VEVENT
END:VCALENDAR