BEGIN:VCALENDAR
VERSION:2.0
PRODID:-//jEvents 2.0 for Joomla//EN
CALSCALE:GREGORIAN
METHOD:PUBLISH
BEGIN:VEVENT
UID:d986006468d1c768ff1123cd34457070
CATEGORIES:6. Bezirk
CREATED:20220530T213033
SUMMARY:Baby-Klangraum
LOCATION:6.\, Sandwirtgasse 13/12
DESCRIPTION:Spielgruppe Baby-KlangraumFür Kinder von 6 bis 12 Monaten \nSpielgruppe mit
  musikalischem Schwerpunkt\n- Singspiele\n- Experimentieren mit Instrumente
 n\n- Klangerfahrungen\nDer Biolino Baby-Klangraum ist für Kinder von 6 - 12
  Monaten. Wir experimentieren mit Tönen, Musikinstrumenten und der eigenen 
 Stimme. Die Kinder können Klanghölzer, Trommeln, Rasseln und andere Basisin
 strumente erforschen und die Welt der Klänge kennen lernen. Musik macht Spa
 ß und fördert die ganzheitliche Entwicklung unserer Kinder.\n \nEinstieg je
 derzeit möglich!Flexibel mit der Biolino Blockkarte: www.biolino.at/Blockka
 rte (http://www.biolino.at/Blockkarte)weitere Infos unter: https://www.biol
 ino.at/spielgruppen/klangraum/ (https://www.biolino.at/spielgruppen/klangra
 um/)\n \nSommerspaß 2022:\nJuli  2022  5., 12., 19. 26.07\nAugust 2022  2.,
  9. August\n \nWir freuen uns auf euch!\nMartina und das Biolino Team\n \n 
 \nwww.biolino.at (http://www.biolino.at) martina.novak@biolino.at (mailto:m
 artina.novak@biolino.at)\n 0677 628 929 70\nSandwirtgasse 13/12\n1060 Wien\
 n
X-ALT-DESC;FMTTYPE=text/html:<h2>Spielgruppe Baby-Klangraum</h2><h3>Für Kinder von 6 bis 12 Monaten</h3>
 <p> </p><p><strong>Spielgruppe mit musikalischem Schwerpunkt</strong></p><p
 >- Singspiele</p><p>- Experimentieren mit Instrumenten</p><p>- Klangerfahru
 ngen</p><p>Der <strong>Biolino Baby</strong>-<strong>Klangraum</strong> ist
  für Kinder von <strong>6 - 12 Monaten</strong>. Wir experimentieren mit Tö
 nen, Musikinstrumenten und der eigenen Stimme. Die Kinder können Klanghölze
 r, Trommeln, Rasseln und andere Basisinstrumente erforschen und die Welt de
 r Klänge kennen lernen. Musik macht Spaß und fördert die ganzheitliche Entw
 icklung unserer Kinder.</p><p> </p><h2>Einstieg jederzeit möglich!</h2><h2>
 Flexibel mit der Biolino Blockkarte: <a href="http://www.biolino.at/Blockka
 rte">www.biolino.at/Blockkarte</a></h2><p>weitere Infos unter: <a href="htt
 ps://www.biolino.at/spielgruppen/klangraum/">https://www.biolino.at/spielgr
 uppen/klangraum/</a></p><p> </p><p><strong>Sommerspaß 2022:</strong></p><p>
 <strong>Juli  2022</strong>  5., 12., 19. 26.07</p><p><strong>August 2022</
 strong>  2., 9. August</p><p> </p><p>Wir freuen uns auf euch!</p><p>Martina
  und das Biolino Team</p><p> </p><p> </p><p><a href="http://www.biolino.at"
 >www.biolino.at</a> <a href="mailto:martina.novak@biolino.at">martina.novak
 @biolino.at</a></p><p> 0677 628 929 70</p><p>Sandwirtgasse 13/12</p><p>1060
  Wien</p>
CONTACT:martina.novak@biolino.at, 067762892970
X-EXTRAINFO:[preis='2000'][anmeldung='true']
DTSTAMP:20260423T155115
DTSTART:20220712T090000
DTEND:20220712T100000
SEQUENCE:0
TRANSP:OPAQUE
END:VEVENT
END:VCALENDAR