BEGIN:VCALENDAR
VERSION:2.0
PRODID:-//jEvents 2.0 for Joomla//EN
CALSCALE:GREGORIAN
METHOD:PUBLISH
BEGIN:VEVENT
UID:638fa0639e67307bcec40426b709bf62
CATEGORIES:6. Bezirk
CREATED:20220530T213649
SUMMARY:Babymassage in Kleingruppe
LOCATION:6.\, Sandwirtgasse 13/12
DESCRIPTION:Babymassage im Biolino InstitutBeziehung durch Berührung Wie Babymassage de
 inem Baby und dir hilft:- Die Babymassage fördert das Urvertrauen deines Ba
 bys.\n- Die Babymassage fördert das Wohlbefinden deines Babys.\n- Die Babym
 assage wirkt entspannend, lockernd und beruhigend sowohl auf dein Baby als 
 auch auf dich.\n- Die Babymassage regt das Immunsystem an und stärkt den Kö
 rper deines Babys.\n- Die Babymassage wirkt lindernd bei Koliken und Zahnun
 gsschmerzen.\n- Die Babymassage kräftigt und lockert die Muskulatur deines 
 Babys und fördert die Beweglichkeit.\n- Die Babymassage kann einen gesunden
 , ruhigeren Schlaf fördern.\n- Die Babymassage stärkt die körperliche und e
 motionelle Entwicklung.\n \nWas erwartet dich:\nWie dein Baby all dies geni
 eßen und davon körperlich und emotional profitieren kann, zeige ich dir in 
 ruhiger Wohlfühl-Atmosphäre im Biolino Institut.\n \nKursinformationen4 Ein
 heiten zu je 60 Minuten\ngemütliche Kleingruppe mit maximal 4 Babys\n \n \n
 Sommerkurs 1:\n13., 20. und 27. Juni 2022\n13.00 - 14.00 Uhr\n \nSommerkurs
  2:\n18., Juli, 1. und 8. August 2022\n13.00 - 14.00 Uhr\nUhrzeit: 13.00 - 
 14.00 Uhr\nKosten: € 79,-\n \nHier geht`s zur Anmeldung: https://www.biolin
 o.at/babymassage/kleingruppen-babymassage/ (https://www.biolino.at/babymass
 age/kleingruppen-babymassage/) \n \nDu erfährst alle wichtigen Grundlagen d
 er Babymassage und kannst am Ende des Kurses dein Baby bei körperlichen und
  emotionalen Beschwerden unterstützen. Für die Massage wird ein biologische
 s Öl zur Verfügung gestellt. Du erhältst außerdem ein ausführliches Handout
  mit allen Techniken und Griffen und ein kleines Geschenk.\nNach der Babyma
 ssage gibt es genug Zeit und Raum für Austausch untereinander und die Beant
 wortung von Fragen. \n \nBitte bring Folgendes zum Babymassagekurs mit:\n\n
  -        ein Handtuch\n -        gemütliche Kleidung für dich, die auch öl
 ig werden darf \nDie Babymassage ist für Babys ab ca. 4 Wochen, bis zum ind
 ividuellen Krabbelalter (ca. 6 Monate) geeignet.\n \nIch freue mich auf ein
 e entspannte, gemütliche Babymassage mit euch!\n \nAlles Liebe,\nMartina\n
X-ALT-DESC;FMTTYPE=text/html:<h1>Babymassage im Biolino Institut</h1><h3>Beziehung durch Berührung</h3><
 h3> </h3><h3>Wie Babymassage deinem Baby und dir hilft:</h3><p>- Die Babyma
 ssage fördert das Urvertrauen deines Babys.</p><p>- Die Babymassage fördert
  das Wohlbefinden deines Babys.</p><p>- Die Babymassage wirkt entspannend, 
 lockernd und beruhigend sowohl auf dein Baby als auch auf dich.</p><p>- Die
  Babymassage regt das Immunsystem an und stärkt den Körper deines Babys.</p
 ><p>- Die Babymassage wirkt lindernd bei Koliken und Zahnungsschmerzen.</p>
 <p>- Die Babymassage kräftigt und lockert die Muskulatur deines Babys und f
 ördert die Beweglichkeit.</p><p>- Die Babymassage kann einen gesunden, ruhi
 geren Schlaf fördern.</p><p>- Die Babymassage stärkt die körperliche und em
 otionelle Entwicklung.</p><p> </p><p><strong>Was erwartet dich:</strong></p
 ><p>Wie dein Baby all dies genießen und davon körperlich und emotional prof
 itieren kann, zeige ich dir in ruhiger Wohlfühl-Atmosphäre im Biolino Insti
 tut.</p><p> </p><h3>Kursinformationen</h3><p><strong>4 Einheiten zu je 60 M
 inuten</strong></p><p><strong>gemütliche Kleingruppe mit maximal 4 Babys</s
 trong></p><p> </p><p> </p><p><strong>Sommerkurs 1:</strong></p><p>13., 20. 
 und 27. Juni 2022</p><p>13.00 - 14.00 Uhr</p><p> </p><p><strong>Sommerkurs 
 2:</strong></p><p>18., Juli, 1. und 8. August 2022</p><p>13.00 - 14.00 Uhr<
 /p><p><strong>Uhrzeit</strong>: 13.00 - 14.00 Uhr</p><p><strong>Kosten</str
 ong>: € 79,-</p><p> </p><p>Hier geht`s zur Anmeldung: <a href="https://www.
 biolino.at/babymassage/kleingruppen-babymassage/">https://www.biolino.at/ba
 bymassage/kleingruppen-babymassage/</a> </p><p> </p><p>Du erfährst alle wic
 htigen Grundlagen der Babymassage und kannst am Ende des Kurses dein Baby b
 ei körperlichen und emotionalen Beschwerden unterstützen. Für die Massage w
 ird ein biologisches Öl zur Verfügung gestellt. Du erhältst außerdem ein au
 sführliches Handout mit allen Techniken und Griffen und ein kleines Geschen
 k.</p><p>Nach der Babymassage gibt es genug Zeit und Raum für Austausch unt
 ereinander und die Beantwortung von Fragen. </p><p> </p><p><strong>Bitte br
 ing Folgendes zum Babymassagekurs mit</strong>:</p><ul><li>       ein Handt
 uch</li><li>       gemütliche Kleidung für dich, die auch ölig werden darf<
 /li></ul><p> </p><p>Die Babymassage ist für Babys <strong>ab ca. 4 Wochen, 
 bis zum individuellen Krabbelalter (ca. 6 Monate)</strong> geeignet.</p><p>
  </p><p><strong>Ich freue mich auf eine entspannte, gemütliche Babymassage 
 mit euch!</strong></p><p><em> </em></p><p><em>Alles Liebe,</em></p><p><em>M
 artina</em></p>
CONTACT:martina.novak@biolino.at, 067762892970
X-EXTRAINFO:[preis='7900'][anmeldung='true']
DTSTAMP:20260423T160909
DTSTART:20220627T110000
DTEND:20220627T120000
SEQUENCE:0
TRANSP:OPAQUE
END:VEVENT
END:VCALENDAR