BEGIN:VCALENDAR
VERSION:2.0
PRODID:-//jEvents 2.0 for Joomla//EN
CALSCALE:GREGORIAN
METHOD:PUBLISH
BEGIN:VEVENT
UID:17997c918c92d967439fc4db0a54cc61
CATEGORIES:3. Bezirk
CREATED:20220603T122718
SUMMARY:Austauschgruppe Schwangerentreff
LOCATION:LieblingsMAMA Praxis: Apostelgasse 29-31/1/9
DESCRIPTION:<p class="" style="white-space: pre-wrap;"><strong>Austauschgruppe für Schw
 angere mit wöchentlichen Themen und Fachinput von der Schwangerschaft bis z
 um Wochenbett</strong></p><p class="" style="white-space: pre-wrap;">Du bis
 t schwanger und wünschst dir neue Kontakte &amp; Austausch mit anderen Bald
 -Mamis? <br />Dann bist du bei LieblingsMAMA genau richtig!</p><p class="" 
 style="white-space: pre-wrap;">In gemütlicher Atmosphäre gibt es viel Raum 
 für Fragen, Inputs, Tipps und alles was dich momentan bewegt sowie wöchentl
 ich wechselnde Themenschwerpukte und Fachwissen zur Vorbereitung auf Geburt
  und frühe Elternschaft.</p><p class="" style="white-space: pre-wrap;">Über
  mehrere Wochen hinweg, begleite ich euch einfühlsam durch eure Schwangersc
 haft. Ich als Mama und Familienberaterin lege großen Wert darauf, euch eine
 n geschützten, intimen Rahmen zu schaffen, in dem all eure Sorgen, Fragen, 
 Ängste und Vorfreuden Platz finden.</p><p class="" style="white-space: pre-
 wrap;">Anmeldung unter: https://www.lieblingsmama.at/spezialangebote</p>
CONTACT:Sabine Grasmuk-Siegl, MSc Familienberaterin, Psychologische Beraterin, https://www.lieblingsmama.at/spezialangebote
X-EXTRAINFO:[preis='14600'][anmeldung='true']
DTSTAMP:20260423T234141
DTSTART:20220719T073000
DTEND:20220816T090000
SEQUENCE:0
TRANSP:OPAQUE
END:VEVENT
END:VCALENDAR