BEGIN:VCALENDAR
VERSION:2.0
PRODID:-//jEvents 2.0 for Joomla//EN
CALSCALE:GREGORIAN
METHOD:PUBLISH
BEGIN:VEVENT
UID:28471af04521fb0e74a4190ebad28124
CATEGORIES:3. Bezirk
CREATED:20220609T214225
SUMMARY:SCHWANGEREN YOGA im PARK 
LOCATION:Arenbergpark\, 1030 Wien 
DESCRIPTION:Schwangeren Yoga im PARK \n\nStart: 13.06.22\nYoga ist eine wunderbare Art 
 den Körper sanft an neue Situationen zu gewöhnen. Wir lösen damit Verspannu
 ngen im Rücken und Nacken und die gezielten Asanas und Atemübungen sind auc
 h eine gute Geburtsvorbereitung. Dein Körper schöpft somit Energie für die 
 Geburt.\nWir stärken und dehnen den Beckenboden. Es ist auch für Anfängerin
 nen geeignet!\nDu kannst vom Alltag abschalten, und dich mit anderen Mamis 
 austauschen.\nKursleiterin Julia ist 2-fache Mama, Yogalehrerin für Schwang
 eren Yoga und Mama Baby Yoga und unterrichtet mit viel Feingefühl und Verst
 ändnis.\nWO: ARENBERGPARK auf der großen Wiese, 1030 WIEN\nBitte nimm eine 
 Yogamatte mit.\nBei Schlechtwetter findet die Einheit ONLINE interaktiv übe
 r Zoom statt.\n \nSiehe dir auch meine Webseite an: www.yogapalace.at\n \nI
 ch freue mich schon auf dich\n
X-ALT-DESC;FMTTYPE=text/html:<p><strong>Schwangeren Yoga im PARK <br /></strong></p><p><strong>Start: 13
 .06.22</strong></p><p>Yoga ist eine wunderbare Art den Körper sanft an neue
  Situationen zu gewöhnen. Wir lösen damit Verspannungen im Rücken und Nacke
 n und die gezielten Asanas und Atemübungen sind auch eine gute Geburtsvorbe
 reitung. Dein Körper schöpft somit Energie für die Geburt.</p><p>Wir stärke
 n und dehnen den Beckenboden. Es ist auch für Anfängerinnen geeignet!</p><p
 >Du kannst vom Alltag abschalten, und dich mit anderen Mamis austauschen.</
 p><p>Kursleiterin Julia ist 2-fache Mama, Yogalehrerin für Schwangeren Yoga
  und Mama Baby Yoga und unterrichtet mit viel Feingefühl und Verständnis.</
 p><p><strong>WO: ARENBERGPARK auf der großen Wiese, 1030 WIEN</strong></p><
 p>Bitte nimm eine Yogamatte mit.</p><p>Bei Schlechtwetter findet die Einhei
 t ONLINE interaktiv über Zoom statt.</p><p> </p><p>Siehe dir auch meine Web
 seite an: <strong>www.yogapalace.at</strong></p><p> </p><p>Ich freue mich s
 chon auf dich</p>
CONTACT:julia_yoga@posteo.at
X-EXTRAINFO:[preis='1500'][anmeldung='true']
DTSTAMP:20260423T232910
DTSTART:20220620T080000
DTEND:20220620T090000
SEQUENCE:0
TRANSP:OPAQUE
END:VEVENT
END:VCALENDAR