BEGIN:VCALENDAR
VERSION:2.0
PRODID:-//jEvents 2.0 for Joomla//EN
CALSCALE:GREGORIAN
METHOD:PUBLISH
BEGIN:VEVENT
UID:fd74704ea3e686a288302ba01db2f71a
CATEGORIES:23. Bezirk
CREATED:20220625T103544
SUMMARY:fitdankbaby OUTDOOR mit Claudia - Aktiv mit Kinderwagen
LOCATION:PaN-Park Trainingspark\, Carlbergergasse 72\, 1230 Wien
DESCRIPTION:<p>Für Mamas mit Babys ab 3 Monaten</p><p>Dich erwartet ein effektives Ganz
 körperworkout an der frischen Luft und Dein Baby ist die ganze Zeit im Kind
 erwagen mit dabei. Wir kombinieren Kraft- und Ausdauerübungen und werden so
  gemeinsam fit. </p><p> </p><p><span style="font-size: 9.0pt; font-family: 
 'Tahoma',sans-serif; color: #333333;">Wir treffen uns immer Montags um 09:4
 5 Uhr im PaN-Park Trainingspark, Carlbergergasse 72, 1230 Wien.</span></p><
 p style="font-variant-ligatures: normal; font-variant-caps: normal; orphans
 : 2; text-align: start; widows: 2; -webkit-text-stroke-width: 0px; text-dec
 oration-thickness: initial; text-decoration-style: initial; text-decoration
 -color: initial; word-spacing: 0px;"><span style="font-size: 9.0pt; font-fa
 mily: 'Tahoma',sans-serif; color: #333333;">Ein Einstieg in den laufenden K
 urs ist jederzeit möglich. </span></p><p> </p><p>Buche jetzt Deinen Kurs un
 ter:</p><p><a href="http://www.fitdankbaby.at/claudia.klinger">www.fitdankb
 aby.at/claudia.klinger</a> </p><p> </p><p>Verpasse keine News: </p><p><a hr
 ef="http://www.facebook.com/fitdankbabyClaudia">www.facebook.com/fitdankbab
 yClaudia</a> </p><p>Instagram: @fitdankbaby_claudia</p><p><br />Bei Fragen 
 oder wenn du Interesse an einer unverbindlichen <strong>Schnupperstunde</st
 rong> hast kannst Du mich gerne unter <a href="mailto:claudia.klinger@fitda
 nkbaby.at">claudia.klinger@fitdankbaby.at</a> kontaktieren. </p><p> </p><p>
 Ich freue mich darauf schon bald gemeinsam mit Dir zu trainieren! </p>
CONTACT:Claudia Klinger - claudia.klinger@fitdankbaby.at
X-EXTRAINFO:[preis='1300'][anmeldung='true']
DTSTAMP:20260423T173358
DTSTART:20220718T074500
DTEND:20220718T084500
SEQUENCE:0
TRANSP:OPAQUE
END:VEVENT
END:VCALENDAR