BEGIN:VCALENDAR
VERSION:2.0
PRODID:-//jEvents 2.0 for Joomla//EN
CALSCALE:GREGORIAN
METHOD:PUBLISH
BEGIN:VEVENT
UID:1b60568cb33fb5106ddf9f3996c2281d
CATEGORIES:23. Bezirk
CREATED:20220625T103907
SUMMARY:fitdankbaby OUTDOOR mit Claudia - Aktiv mit Kinderwagen
LOCATION:PaN-Park Trainingspark\, Carlbergergasse 72\, 1230 Wien
DESCRIPTION:Für Mamas mit Babys ab 3 Monaten\nDich erwartet ein effektives Ganzkörperwo
 rkout an der frischen Luft und Dein Baby ist die ganze Zeit im Kinderwagen 
 mit dabei. Wir kombinieren Kraft- und Ausdauerübungen und werden so gemeins
 am fit. \n \nWir treffen uns immer Montags um 09:45 Uhr im PaN-Park Trainin
 gspark, Carlbergergasse 72, 1230 Wien.\nEin Einstieg in den laufenden Kurs 
 ist jederzeit möglich. \n \nBuche jetzt Deinen Kurs unter:\nwww.fitdankbaby
 .at/claudia.klinger (http://www.fitdankbaby.at/claudia.klinger) \n \nVerpas
 se keine News: \nwww.facebook.com/fitdankbabyClaudia (http://www.facebook.c
 om/fitdankbabyClaudia) \nInstagram: @fitdankbaby_claudia\n\nBei Fragen oder
  wenn du Interesse an einer unverbindlichen Schnupperstunde hast kannst Du 
 mich gerne unter claudia.klinger@fitdankbaby.at (mailto:claudia.klinger@fit
 dankbaby.at) kontaktieren. \n \nIch freue mich darauf schon bald gemeinsam 
 mit Dir zu trainieren! \n
X-ALT-DESC;FMTTYPE=text/html:<p>Für Mamas mit Babys ab 3 Monaten</p><p>Dich erwartet ein effektives Ganz
 körperworkout an der frischen Luft und Dein Baby ist die ganze Zeit im Kind
 erwagen mit dabei. Wir kombinieren Kraft- und Ausdauerübungen und werden so
  gemeinsam fit. </p><p> </p><p><span style="font-size: 9.0pt; font-family: 
 'Tahoma',sans-serif; color: #333333;">Wir treffen uns immer Montags um 09:4
 5 Uhr im PaN-Park Trainingspark, Carlbergergasse 72, 1230 Wien.</span></p><
 p style="font-variant-ligatures: normal; font-variant-caps: normal; orphans
 : 2; text-align: start; widows: 2; -webkit-text-stroke-width: 0px; text-dec
 oration-thickness: initial; text-decoration-style: initial; text-decoration
 -color: initial; word-spacing: 0px;"><span style="font-size: 9.0pt; font-fa
 mily: 'Tahoma',sans-serif; color: #333333;">Ein Einstieg in den laufenden K
 urs ist jederzeit möglich. </span></p><p> </p><p>Buche jetzt Deinen Kurs un
 ter:</p><p><a href="http://www.fitdankbaby.at/claudia.klinger">www.fitdankb
 aby.at/claudia.klinger</a> </p><p> </p><p>Verpasse keine News: </p><p><a hr
 ef="http://www.facebook.com/fitdankbabyClaudia">www.facebook.com/fitdankbab
 yClaudia</a> </p><p>Instagram: @fitdankbaby_claudia</p><p><br />Bei Fragen 
 oder wenn du Interesse an einer unverbindlichen <strong>Schnupperstunde</st
 rong> hast kannst Du mich gerne unter <a href="mailto:claudia.klinger@fitda
 nkbaby.at">claudia.klinger@fitdankbaby.at</a> kontaktieren. </p><p> </p><p>
 Ich freue mich darauf schon bald gemeinsam mit Dir zu trainieren! </p>
CONTACT:Claudia Klinger - claudia.klinger@fitdankbaby.at
X-EXTRAINFO:[preis='1300'][anmeldung='true']
DTSTAMP:20260423T124854
DTSTART:20220926T074500
DTEND:20220926T084500
SEQUENCE:0
TRANSP:OPAQUE
END:VEVENT
END:VCALENDAR