BEGIN:VCALENDAR
VERSION:2.0
PRODID:-//jEvents 2.0 for Joomla//EN
CALSCALE:GREGORIAN
METHOD:PUBLISH
BEGIN:VEVENT
UID:f0897341a784cb13f8536c2aaac72263
CATEGORIES:23. Bezirk
CREATED:20220625T103956
SUMMARY:fitdankbaby mit Claudia - Fitness für Dich & Dein Baby
LOCATION:Apotheke Rodaun\, Ketzergasse 368\, 1230 Wien
DESCRIPTION:Für Mamas mit Babys ab 3 Monaten\n \nDas erwartet Dich:\n\n - Fitnesskurs m
 it Deinem Baby\n - Effektives Ganzkörperworkout\n - Training in Kleingruppe
 n (6-8 Mamas), so dass auf die individuellen Bedürfnisse eingegangen werden
  kann\n - Gemeinsame Zeit mit viel Spaß für Mama UND Baby\n - Dein Baby ist
  die gesamte Stunde eingebunden. \n - Kreative Babyspiele und -lieder, um d
 ein Baby aktiv in seiner Entwicklung zu unterstützenWir treffen uns immer M
 ittwochs um 9:30 Uhr in der Apotheke Rodaun, Ketzergasse 368, 1230 Wien. \n
 Ein Einstieg in den laufenden Kurs ist jederzeit möglich. \n \nBuche jetzt 
 Deinen Kurs unter:\nwww.fitdankbaby.at/claudia.klinger (http://www.fitdankb
 aby.at/claudia.klinger) \n \nVerpasse keine News: \nwww.facebook.com/fitdan
 kbabyClaudia (http://www.facebook.com/fitdankbabyClaudia) \nInstagram: @fit
 dankbaby_claudia\n\nBei Fragen oder wenn du Interesse an einer unverbindlic
 hen Schnupperstunde hast kannst Du mich gerne unter claudia.klinger@fitdank
 baby.at (mailto:claudia.klinger@fitdankbaby.at) kontaktieren. \n \nIch freu
 e mich darauf schon bald gemeinsam mit Dir zu trainieren! \n
X-ALT-DESC;FMTTYPE=text/html:<p>Für Mamas mit Babys ab 3 Monaten</p><p> </p><p><span style="text-decorat
 ion: underline;">Das erwartet Dich:</span></p><ul><li>Fitnesskurs mit Deine
 m Baby</li><li>Effektives Ganzkörperworkout</li><li>Training in Kleingruppe
 n (6-8 Mamas), so dass auf die individuellen Bedürfnisse eingegangen werden
  kann</li><li>Gemeinsame Zeit mit viel Spaß für Mama UND Baby</li><li>Dein 
 Baby ist die gesamte Stunde eingebunden. </li><li>Kreative Babyspiele und -
 lieder, um dein Baby aktiv in seiner Entwicklung zu unterstützen</li></ul><
 p>Wir treffen uns immer Mittwochs um 9:30 Uhr in der Apotheke Rodaun, Ketze
 rgasse 368, 1230 Wien. </p><p>Ein Einstieg in den laufenden Kurs ist jederz
 eit möglich. </p><p> </p><p><span style="text-decoration: underline;">Buche
  jetzt Deinen Kurs unter:</span></p><p><span style="text-decoration: underl
 ine;"><a href="http://www.fitdankbaby.at/claudia.klinger">www.fitdankbaby.a
 t/claudia.klinger</a> </span></p><p> </p><p><span style="text-decoration: u
 nderline;">Verpasse keine News: </span></p><p><a href="http://www.facebook.
 com/fitdankbabyClaudia">www.facebook.com/fitdankbabyClaudia</a> </p><p>Inst
 agram: @fitdankbaby_claudia</p><p><br />Bei Fragen oder wenn du Interesse a
 n einer unverbindlichen <strong>Schnupperstunde</strong> hast kannst Du mic
 h gerne unter <a href="mailto:claudia.klinger@fitdankbaby.at">claudia.kling
 er@fitdankbaby.at</a> kontaktieren. </p><p> </p><p>Ich freue mich darauf sc
 hon bald gemeinsam mit Dir zu trainieren! </p>
CONTACT:Claudia Klinger - claudia.klinger@fitdankbaby.at
X-EXTRAINFO:[preis='1300'][anmeldung='true']
DTSTAMP:20260423T081423
DTSTART:20221012T073000
DTEND:20221012T084500
SEQUENCE:0
TRANSP:OPAQUE
END:VEVENT
END:VCALENDAR