BEGIN:VCALENDAR
VERSION:2.0
PRODID:-//jEvents 2.0 for Joomla//EN
CALSCALE:GREGORIAN
METHOD:PUBLISH
BEGIN:VEVENT
UID:913b78af9342f508529efde8991e765e
CATEGORIES:23. Bezirk
CREATED:20220625T104042
SUMMARY:fitdankbaby mit Claudia - Fitness für Dich & Dein Baby
LOCATION:Better Tennis Center Alt Erlaa\,  Erlaaer Str. 56A
DESCRIPTION:Für Mamas mit Babys ab 3 Monaten\n \nDas erwartet Dich:\n\n - Fitnesskurs m
 it Deinem Baby\n - Effektives Ganzkörperworkout\n - Training in Kleingruppe
 n (6-8 Mamas), so dass auf die individuellen Bedürfnisse eingegangen werden
  kann\n - Gemeinsame Zeit mit viel Spaß für Mama UND Baby\n - Dein Baby ist
  die gesamte Stunde eingebunden. \n - Kreative Babyspiele und -lieder, um d
 ein Baby aktiv in seiner Entwicklung zu unterstützenEin Einstieg in den lau
 fenden Kurs ist jederzeit möglich. \nBuche jetzt Deinen Kurs unter:\nwww.fi
 tdankbaby.at/claudia.klinger (http://www.fitdankbaby.at/claudia.klinger) \n
  \nVerpasse keine News: \nwww.facebook.com/fitdankbabyClaudia (http://www.f
 acebook.com/fitdankbabyClaudia) \nInstagram: @fitdankbaby_claudia\n\nBei Fr
 agen oder wenn du Interesse an einer unverbindlichen Schnupperstunde hast k
 annst Du mich gerne unter claudia.klinger@fitdankbaby.at (mailto:claudia.kl
 inger@fitdankbaby.at) kontaktieren. \n \nIch freue mich darauf schon bald g
 emeinsam mit Dir zu trainieren! \n
X-ALT-DESC;FMTTYPE=text/html:<p>Für Mamas mit Babys ab 3 Monaten</p><p> </p><p><span style="text-decorat
 ion: underline;">Das erwartet Dich:</span></p><ul><li>Fitnesskurs mit Deine
 m Baby</li><li>Effektives Ganzkörperworkout</li><li>Training in Kleingruppe
 n (6-8 Mamas), so dass auf die individuellen Bedürfnisse eingegangen werden
  kann</li><li>Gemeinsame Zeit mit viel Spaß für Mama UND Baby</li><li>Dein 
 Baby ist die gesamte Stunde eingebunden. </li><li>Kreative Babyspiele und -
 lieder, um dein Baby aktiv in seiner Entwicklung zu unterstützen</li></ul><
 p>Ein Einstieg in den laufenden Kurs ist jederzeit möglich. </p><p><span st
 yle="text-decoration: underline;">Buche jetzt Deinen Kurs unter:</span></p>
 <p><span style="text-decoration: underline;"><a href="http://www.fitdankbab
 y.at/claudia.klinger">www.fitdankbaby.at/claudia.klinger</a> </span></p><p>
  </p><p><span style="text-decoration: underline;">Verpasse keine News: </sp
 an></p><p><a href="http://www.facebook.com/fitdankbabyClaudia">www.facebook
 .com/fitdankbabyClaudia</a> </p><p>Instagram: @fitdankbaby_claudia</p><p><b
 r />Bei Fragen oder wenn du Interesse an einer unverbindlichen <strong>Schn
 upperstunde</strong> hast kannst Du mich gerne unter <a href="mailto:claudi
 a.klinger@fitdankbaby.at">claudia.klinger@fitdankbaby.at</a> kontaktieren. 
 </p><p> </p><p>Ich freue mich darauf schon bald gemeinsam mit Dir zu traini
 eren! </p>
CONTACT:Claudia Klinger - claudia.klinger@fitdankbaby.at
X-EXTRAINFO:[preis='1300'][anmeldung='true']
DTSTAMP:20260423T081440
DTSTART:20221013T071500
DTEND:20221013T083000
SEQUENCE:0
TRANSP:OPAQUE
END:VEVENT
END:VCALENDAR