BEGIN:VCALENDAR
VERSION:2.0
PRODID:-//jEvents 2.0 for Joomla//EN
CALSCALE:GREGORIAN
METHOD:PUBLISH
BEGIN:VEVENT
UID:88e1c7252ba5265745f567b20a784f8d
CATEGORIES:23. Bezirk
CREATED:19700101T010000
SUMMARY:fitdankbaby KIDS mit Claudia - Fitness für Dich & Dein Kleinkind
LOCATION:Better Tennis Center Alt Erlaa\, Erlaaer Straße 56A\, 1230 Wien
DESCRIPTION:<p>Für Mamas mit Kleinkindern von ca. 15 Monaten bis 2,5 Jahren.</p><p> </p
 ><p><span style="text-decoration: underline;">Das erwartet Dich:</span></p>
 <ul><li>Fitnesskurs mit Deinem Kleinkind</li><li>Effektives Ganzkörperworko
 ut</li><li>Training in Kleingruppen (6-8 Mamas), so dass auf die individuel
 len Bedürfnisse eingegangen werden kann</li><li>Gemeinsame Zeit mit viel Sp
 aß für Mama UND Kind</li><li>Dein Kind ist die gesamte Stunde eingebunden. 
 </li><li>Ansprechende Spielideen für Dein Kind - Dein Kind sollte schon (an
  der Hand) laufen können, um aktiv am Kurs teilnehmen zu können</li></ul><p
 >Ein Einstieg in den laufenden Kurs ist jederzeit möglich. </p><p> </p><p><
 span style="text-decoration: underline;">Buche jetzt Deinen Kurs unter:</sp
 an></p><p><span style="text-decoration: underline;"><a href="http://www.fit
 dankbaby.at/claudia.klinger">www.fitdankbaby.at/claudia.klinger</a> </span>
 </p><p> </p><p><span style="text-decoration: underline;">Verpasse keine New
 s: </span></p><p><a href="http://www.facebook.com/fitdankbabyClaudia">www.f
 acebook.com/fitdankbabyClaudia</a> </p><p>Instagram: @fitdankbaby_claudia</
 p><p><br />Bei Fragen oder wenn du Interesse an einer unverbindlichen <stro
 ng>Schnupperstunde</strong> hast kannst Du mich gerne unter <a href="mailto
 :claudia.klinger@fitdankbaby.at">claudia.klinger@fitdankbaby.at</a> kontakt
 ieren. </p><p> </p><p>Ich freue mich darauf schon bald gemeinsam mit Dir zu
  trainieren! </p>
CONTACT:Claudia Klinger - claudia.klinger@fitdankbaby.at
X-EXTRAINFO:[preis='1300'][anmeldung='true']
DTSTAMP:20260423T112408
DTSTART:20220914T133000
DTEND:20220914T143000
SEQUENCE:0
TRANSP:OPAQUE
END:VEVENT
END:VCALENDAR